BEGIN:VCALENDAR
VERSION:2.0
PRODID:-//Deutsch Paraguayisches Kulturinstitut Goethe-Zentrum - ECPv6.15.20//NONSGML v1.0//EN
CALSCALE:GREGORIAN
METHOD:PUBLISH
X-ORIGINAL-URL:https://www.icpa-gz.org.py/DE
X-WR-CALDESC:Eventos para Deutsch Paraguayisches Kulturinstitut Goethe-Zentrum
REFRESH-INTERVAL;VALUE=DURATION:PT1H
X-Robots-Tag:noindex
X-PUBLISHED-TTL:PT1H
BEGIN:VTIMEZONE
TZID:America/Asuncion
BEGIN:STANDARD
TZOFFSETFROM:-0300
TZOFFSETTO:-0400
TZNAME:-04
DTSTART:20230326T030000
END:STANDARD
BEGIN:DAYLIGHT
TZOFFSETFROM:-0400
TZOFFSETTO:-0300
TZNAME:-03
DTSTART:20231001T040000
END:DAYLIGHT
BEGIN:STANDARD
TZOFFSETFROM:-0300
TZOFFSETTO:-0400
TZNAME:-04
DTSTART:20240324T030000
END:STANDARD
BEGIN:DAYLIGHT
TZOFFSETFROM:-0400
TZOFFSETTO:-0300
TZNAME:-03
DTSTART:20241006T040000
END:DAYLIGHT
BEGIN:STANDARD
TZOFFSETFROM:-0300
TZOFFSETTO:-0300
TZNAME:-03
DTSTART:20241015T030000
END:STANDARD
END:VTIMEZONE
BEGIN:VEVENT
DTSTART;TZID=America/Asuncion:20241012T100000
DTEND;TZID=America/Asuncion:20241012T130000
DTSTAMP:20260424T150227
CREATED:20241009T214558Z
LAST-MODIFIED:20241009T214635Z
UID:35475-1728727200-1728738000@www.icpa-gz.org.py
SUMMARY:Workshop - Club „Reparieren und Lernen“ | La Mutante Taller
DESCRIPTION:Wir laden Sie ein\, am Schreinerklub „Reparieren und Lernen“ teilzunehmen. Einmal im Monat können die Teilnehmer ihre beschädigten oder defekten Möbel mitbringen und unter der Anleitung von zwei erfahrenen Schreinern lernen\, wie sie diese selbst reparieren können. \nModeratoren: Mariela Oteizá und Pato Domínguez | @lamutante.taller | Inatagram \nDatum: Samstag\, 12. Oktober\nZeitplan: Von 10:00 bis 13:00\nAnmeldung: +595976988372\nKosten: Kostenfrei\, begrenzte Plätze \nOrt: Ulrich Schmidl Bibliothek ICPA- GZ\nJuan de Salazar 310 c/ Artigas\nRicardo Brugada Viertel – Asunción \n 
URL:https://www.icpa-gz.org.py/DE/evento/workshop-club-reparieren-und-lernen-la-mutante-taller/
LOCATION:Instituto Cultural Paraguayo-Alemán – Goethe-Zentrum | ICPA-GZ\, Juan de Salazar 310 c/ Artigas_\, Asuncion\, 3500\, Paraguay
CATEGORIES:gefördert vom ICPA-GZ,Workshop
ATTACH;FMTTYPE=image/jpeg:https://www.icpa-gz.org.py/DE/wp-content/uploads/2024/10/ICPA_ReparaAprendeClub2.jpg
END:VEVENT
BEGIN:VEVENT
DTSTART;TZID=America/Asuncion:20241012T180000
DTEND;TZID=America/Asuncion:20241012T200000
DTSTAMP:20260424T150227
CREATED:20241010T203343Z
LAST-MODIFIED:20241010T203343Z
UID:35585-1728756000-1728763200@www.icpa-gz.org.py
SUMMARY:Vortrag „Entkolonialisierung der erlernten Herkunft“ | Gloria Scappini und Noé Kuchingi
DESCRIPTION:Vortrag – Diskussion „Entkolonialisierung der erlernten Herkunft“ mit Gloria Scappini\, Anthropologin und Noé Kuchingi\, Student des Volkes der Aché. \n„Die Vergangenheit historisch zu artikulieren\, bedeutet\, eine Erinnerung in Besitz zu nehmen\, die im Augenblick der Gefahr aufleuchtet“. Walter Benjamin \nAm 12. Oktober laden wir Sie ein\, über die Bedeutung des historischen Diskurses und die aktuellen Strukturen der Kolonialität nachzudenken\, verbunden mit einem Aufruf zum Gedenken an den Völkermord am indigenen Volk der Aché in Paraguay als einem gemeinsamen Ort von Konzepten\, historischen und ethnographischen Aufzeichnungen mit den Mitteln der Geschichtsphilosophie und der Sozialanthropologie. \nDatum: 12. Oktober 2024\nZeit: 18:00 Hs.\nOrt: Paraguayisch-Deutsches Kulturinstitut – Goethe Zentrum\nJuan de Salazar 310 c/ Artigas\nStadtviertel Ricardo Brugada – Asunción\nZugang: Kostenlos
URL:https://www.icpa-gz.org.py/DE/evento/vortrag-entkolonialisierung-der-erlernten-herkunft-gloria-scappini-und-noe-kuchingi/
LOCATION:Instituto Cultural Paraguayo-Alemán – Goethe-Zentrum | ICPA-GZ\, Juan de Salazar 310 c/ Artigas_\, Asuncion\, 3500\, Paraguay
CATEGORIES:gefördert vom ICPA-GZ,Konferenz,Präsenzveranstaltung,Vortrag
ATTACH;FMTTYPE=image/png:https://www.icpa-gz.org.py/DE/wp-content/uploads/2024/10/ICPA_Descolonizar_GloriaScappini-2.png
END:VEVENT
END:VCALENDAR