BEGIN:VCALENDAR
VERSION:2.0
PRODID:-//Deutsch Paraguayisches Kulturinstitut Goethe-Zentrum - ECPv6.15.20//NONSGML v1.0//EN
CALSCALE:GREGORIAN
METHOD:PUBLISH
X-WR-CALNAME:Deutsch Paraguayisches Kulturinstitut Goethe-Zentrum
X-ORIGINAL-URL:https://www.icpa-gz.org.py/DE
X-WR-CALDESC:Eventos para Deutsch Paraguayisches Kulturinstitut Goethe-Zentrum
REFRESH-INTERVAL;VALUE=DURATION:PT1H
X-Robots-Tag:noindex
X-PUBLISHED-TTL:PT1H
BEGIN:VTIMEZONE
TZID:America/Asuncion
BEGIN:STANDARD
TZOFFSETFROM:-0300
TZOFFSETTO:-0400
TZNAME:-04
DTSTART:20230326T030000
END:STANDARD
BEGIN:DAYLIGHT
TZOFFSETFROM:-0400
TZOFFSETTO:-0300
TZNAME:-03
DTSTART:20231001T040000
END:DAYLIGHT
BEGIN:STANDARD
TZOFFSETFROM:-0300
TZOFFSETTO:-0400
TZNAME:-04
DTSTART:20240324T030000
END:STANDARD
BEGIN:DAYLIGHT
TZOFFSETFROM:-0400
TZOFFSETTO:-0300
TZNAME:-03
DTSTART:20241006T040000
END:DAYLIGHT
BEGIN:STANDARD
TZOFFSETFROM:-0300
TZOFFSETTO:-0300
TZNAME:-03
DTSTART:20241015T030000
END:STANDARD
END:VTIMEZONE
BEGIN:VEVENT
DTSTART;TZID=America/Asuncion:20241011T200000
DTEND;TZID=America/Asuncion:20241011T220000
DTSTAMP:20260424T150232
CREATED:20241007T205914Z
LAST-MODIFIED:20241007T205914Z
UID:35311-1728676800-1728684000@www.icpa-gz.org.py
SUMMARY:Deutsche Woche Tag 9 | Deutschen Botschaft
DESCRIPTION:Die Deutsche Botschaft und das Deutsch-Paraguayische Kulturinstitut laden zur Deutschen Woche vom 3. bis 14. Oktober ein. \nAm Donnerstag\, den 3. Oktober\, wird die Deutsche Woche mit dem Tag der Deutschen Einheit eröffnet und bietet bis zum 14. Oktober ein abwechslungsreiches Programm mit Theater\, Kino\, Vorträgen\, bildender Kunst und zwei Oktoberfesten. Die Veranstaltungsreihe wird von der Deutschen Botschaft und dem Deutsch-Paraguayischen Kulturinstitut in Zusammenarbeit mit mehreren in Paraguay vertretenen deutschen Organisationen organisiert. \nNachstehend finden Sie das Programm\, das auch auf unserer Website www.asuncion.diplo.de/SemanaAlemana abrufbar ist. \nFreitag 11. \n20:00 – Disko-Nacht – Disco-Nacht im Deutsch-Paraguayischen Kulturinstitut \n  \nWährend der gesamten Woche: \nVirtuelle Erfahrung „Reise nach Deutschland“ – Vom 3. bis 13. Oktober von 11:00 bis 18:00 Uhr im schwimmenden Container des ICPA. \nFür weitere Informationen besuchen Sie bitte www.asuncion.diplo.de/SemanaAlemana \n 
URL:https://www.icpa-gz.org.py/DE/evento/deutsche-woche-tag-9-deutschen-botschaft/
LOCATION:Instituto Cultural Paraguayo-Alemán – Goethe-Zentrum | ICPA-GZ\, Juan de Salazar 310 c/ Artigas_\, Asuncion\, 3500\, Paraguay
CATEGORIES:Botschaft der Bundesrepublik Deutschland in Asunción,gefördert vom ICPA-GZ,Kultur,Musik,Präsenzveranstaltung
ATTACH;FMTTYPE=image/png:https://www.icpa-gz.org.py/DE/wp-content/uploads/2024/09/DBA_SemanaAlemana-Feed-0.png
END:VEVENT
BEGIN:VEVENT
DTSTART;TZID=America/Asuncion:20241011T200000
DTEND;TZID=America/Asuncion:20241011T220000
DTSTAMP:20260424T150232
CREATED:20241007T214615Z
LAST-MODIFIED:20241007T214615Z
UID:35459-1728676800-1728684000@www.icpa-gz.org.py
SUMMARY:70S NIGHT | Deutsche Woche
DESCRIPTION:70S NIGHT \nWir erwarten Sie\, um zur besten Musik aller Zeiten zu tanzen\, um die Aktivitäten der Deutschen Woche 2024 abzuschließen. \nDatum: Freitag\, 11. Oktober\nUhrzeit: 20:00 Hs.\nZugang: Kostenlos \nVeranstaltungsort: Paraguayisch-Deutsches Kulturinstitut – Goethe Zentrum\nJuan de Salazar 310 c/ Artigas\nStadtviertel Ricardo Brugada – Asunción
URL:https://www.icpa-gz.org.py/DE/evento/70s-night-deutsche-woche/
LOCATION:Salón Rolando Rasmussen des Instituto Cultural Paraguayo-Alemán – Goethe-Zentrum | ICPA-GZ\, Juan de Salazar 310 c/ Artigas Barrio Ricardo Brugada\, Asunción\, Distrito Capital\, Paraguay
CATEGORIES:Botschaft der Bundesrepublik Deutschland in Asunción,Deutsche Woche | Semana alemana,gefördert vom ICPA-GZ,Kultur,Musik,Präsenzveranstaltung
ATTACH;FMTTYPE=image/png:https://www.icpa-gz.org.py/DE/wp-content/uploads/2024/10/ICPA_SemanaAlemana-NocheDisco2.png
END:VEVENT
END:VCALENDAR