BEGIN:VCALENDAR
VERSION:2.0
PRODID:-//Deutsch Paraguayisches Kulturinstitut Goethe-Zentrum - ECPv6.15.20//NONSGML v1.0//EN
CALSCALE:GREGORIAN
METHOD:PUBLISH
X-WR-CALNAME:Deutsch Paraguayisches Kulturinstitut Goethe-Zentrum
X-ORIGINAL-URL:https://www.icpa-gz.org.py/DE
X-WR-CALDESC:Eventos para Deutsch Paraguayisches Kulturinstitut Goethe-Zentrum
REFRESH-INTERVAL;VALUE=DURATION:PT1H
X-Robots-Tag:noindex
X-PUBLISHED-TTL:PT1H
BEGIN:VTIMEZONE
TZID:America/Asuncion
BEGIN:STANDARD
TZOFFSETFROM:-0300
TZOFFSETTO:-0400
TZNAME:-04
DTSTART:20230326T030000
END:STANDARD
BEGIN:DAYLIGHT
TZOFFSETFROM:-0400
TZOFFSETTO:-0300
TZNAME:-03
DTSTART:20231001T040000
END:DAYLIGHT
BEGIN:STANDARD
TZOFFSETFROM:-0300
TZOFFSETTO:-0400
TZNAME:-04
DTSTART:20240324T030000
END:STANDARD
BEGIN:DAYLIGHT
TZOFFSETFROM:-0400
TZOFFSETTO:-0300
TZNAME:-03
DTSTART:20241006T040000
END:DAYLIGHT
BEGIN:STANDARD
TZOFFSETFROM:-0300
TZOFFSETTO:-0300
TZNAME:-03
DTSTART:20241015T030000
END:STANDARD
END:VTIMEZONE
BEGIN:VEVENT
DTSTART;TZID=America/Asuncion:20241010T090000
DTEND;TZID=America/Asuncion:20241010T120000
DTSTAMP:20260425T073814
CREATED:20241009T215950Z
LAST-MODIFIED:20241009T215950Z
UID:35497-1728550800-1728561600@www.icpa-gz.org.py
SUMMARY:Workshop „Bildhauerische Gefäße und Köhlerei“ | Trama Colectiva 1/3
DESCRIPTION:Wir laden Sie ein\, an dem Keramik-Workshop „Skulpturale Gefäße und Köhlerei“ teilzunehmen\, der kostenlos ist und dessen Plätze begrenzt sind. \nDer Workshop besteht aus drei Terminen:\nSamstag\, 12. Oktober\, 9:00 – 12:00 Uhr.\nDienstag\, 15. Oktober\, 17.00 – 20.00 Uhr\nSamstag\, 19. Oktober\, ab 15:00 Uhr \nKosten: Kostenfrei\, begrenzte Plätze.\nAnmeldung über dieses Formular. \nMehr Informationen unter: \n@trama_collectiva | Intagram oder Telefon +595 971 210928 \nVeranstaltungsort: Paraguayisch-Deutsches Kulturinstitut – Goethe Zentrum\nJuan de Salazar 310 casi Artigas.\nBarrio Ricardo Brugada\, Asunción.
URL:https://www.icpa-gz.org.py/DE/evento/workshop-bildhauerische-gefase-und-kohlerei-trama-colectiva-1-3/
LOCATION:Instituto Cultural Paraguayo-Alemán – Goethe-Zentrum | ICPA-GZ\, Juan de Salazar 310 c/ Artigas_\, Asuncion\, 3500\, Paraguay
CATEGORIES:gefördert vom ICPA-GZ,Präsenzveranstaltung,Workshop
ATTACH;FMTTYPE=image/png:https://www.icpa-gz.org.py/DE/wp-content/uploads/2024/10/ICPA_TallerCeramica.png
END:VEVENT
BEGIN:VEVENT
DTSTART;TZID=America/Asuncion:20241010T150000
DTEND;TZID=America/Asuncion:20241010T210000
DTSTAMP:20260425T073814
CREATED:20241007T203536Z
LAST-MODIFIED:20241007T205145Z
UID:35283-1728572400-1728594000@www.icpa-gz.org.py
SUMMARY:Deutsche Woche Tag 8 | Deutschen Botschaft
DESCRIPTION:Die Deutsche Botschaft und das Deutsch-Paraguayische Kulturinstitut laden zur Deutschen Woche vom 3. bis 14. Oktober ein. \nAm Donnerstag\, den 3. Oktober\, wird die Deutsche Woche mit dem Tag der Deutschen Einheit eröffnet und bietet bis zum 14. Oktober ein abwechslungsreiches Programm mit Theater\, Kino\, Vorträgen\, bildender Kunst und zwei Oktoberfesten. Die Veranstaltungsreihe wird von der Deutschen Botschaft und dem Deutsch-Paraguayischen Kulturinstitut in Zusammenarbeit mit mehreren in Paraguay vertretenen deutschen Organisationen organisiert. \nNachstehend finden Sie das Programm\, das auch auf unserer Website www.asuncion.diplo.de/SemanaAlemana abrufbar ist. \nDonnerstag 10 \n15:00 bis 18:00 – UPA Jobmesse – Veranstaltungsort: Universidad Paraguayo-Alemana UPA (Lope de Vega Nro. 1279 esq. Atilio Galfre\, San Lorenzo) \nKinomarathon / Deutscher Film-Marathon \n11:00 Quatsch und die Nasenbärbande (Regie: Veit Helmer\, 2014\, Farbe\, 82 min) \n13:00 Ivie wie Ivie (Regie: Sarah Blaßkiewitz\, 2021\, 109 min) \n15:00 Curveball – Die Wahrheit gibt es nicht (Regie: Johannes Naber\, 2020\, Farbe\, 108 min) \n17:00 The Meaning of Hitler (Regie: Petra Epperlein\, Michael Tucker\, 2020) \n19:00 Nahschuss (Regie: Franziska Stünkel\, 2021\, 116 min) \n  \nWährend der gesamten Woche: \nVirtuelle Erfahrung „Reise nach Deutschland“ – Vom 3. bis 13. Oktober von 11:00 bis 18:00 Uhr im schwimmenden Container des ICPA. \nFür weitere Informationen besuchen Sie bitte www.asuncion.diplo.de/SemanaAlemana
URL:https://www.icpa-gz.org.py/DE/evento/deutsche-woche-tag-8-deutschen-botschaft/
CATEGORIES:Botschaft der Bundesrepublik Deutschland in Asunción,Deutsche Filmreihe,Deutsche Woche | Semana alemana,gefördert vom ICPA-GZ
ATTACH;FMTTYPE=image/png:https://www.icpa-gz.org.py/DE/wp-content/uploads/2024/09/DBA_SemanaAlemana-Feed-0.png
END:VEVENT
BEGIN:VEVENT
DTSTART;TZID=America/Asuncion:20241010T170000
DTEND;TZID=America/Asuncion:20241010T210000
DTSTAMP:20260425T073814
CREATED:20241007T202708Z
LAST-MODIFIED:20241007T202708Z
UID:35261-1728579600-1728594000@www.icpa-gz.org.py
SUMMARY:Deutsche Woche Tag 7 | Deutschen Botschaft
DESCRIPTION:Die Deutsche Botschaft und das Deutsch-Paraguayische Kulturinstitut laden zur Deutschen Woche vom 3. bis 14. Oktober ein. \nAm Donnerstag\, den 3. Oktober\, wird die Deutsche Woche mit dem Tag der Deutschen Einheit eröffnet und bietet bis zum 14. Oktober ein abwechslungsreiches Programm mit Theater\, Kino\, Vorträgen\, bildender Kunst und zwei Oktoberfesten. Die Veranstaltungsreihe wird von der Deutschen Botschaft und dem Deutsch-Paraguayischen Kulturinstitut in Zusammenarbeit mit mehreren in Paraguay vertretenen deutschen Organisationen organisiert. \nNachstehend finden Sie das Programm\, das auch auf unserer Website www.asuncion.diplo.de/SemanaAlemana abrufbar ist. \nMittwoch\, 9. \n17:00 bis 19:00 Uhr – Vortrag „Kooperative Bildung: Grundpfeiler des Raiffeisen-Erbes“. Ort: Coopeduc Filiale in Colonia Independencia. Anmeldung: www.t1p.de/l8fi0 \n15:00 bis 16:00 Uhr – Präsentation des Labors für Forschung und Innovation für Industrie und KMU (LABII) & Dienstleistungen – Ort: Universidad Paraguayo-Alemana UPA (Lope de Vega Nro. 1279 esq. Atilio Galfre\, San Lorenzo) \n19:00 Uhr – Deutsches Kino: „Living Bach“ – Ein Dokumentarfilm über die besänftigende Kraft der Musik\, die Menschen über alle Grenzen hinweg verbindet\, mit Beteiligung des Bach Collegium Asunción. Veranstaltungsort: Paraguayisch-Deutsches Kulturinstitut \n  \nWährend der gesamten Woche: \nVirtuelle Erfahrung „Reise nach Deutschland“ – Vom 3. bis 13. Oktober von 11:00 bis 18:00 Uhr im schwimmenden Container des ICPA. \nFür weitere Informationen besuchen Sie bitte www.asuncion.diplo.de/SemanaAlemana \n 
URL:https://www.icpa-gz.org.py/DE/evento/deutsche-woche-tag-7-deutschen-botschaft/
LOCATION:Instituto Cultural Paraguayo-Alemán – Goethe-Zentrum | ICPA-GZ\, Juan de Salazar 310 c/ Artigas_\, Asuncion\, 3500\, Paraguay
CATEGORIES:Botschaft der Bundesrepublik Deutschland in Asunción,Deutsche Filmreihe,Deutsche Woche | Semana alemana,gefördert vom ICPA-GZ,Konferenz,Kultur,Präsenzveranstaltung
ATTACH;FMTTYPE=image/png:https://www.icpa-gz.org.py/DE/wp-content/uploads/2024/09/DBA_SemanaAlemana-Feed-0.png
END:VEVENT
END:VCALENDAR