BEGIN:VCALENDAR
VERSION:2.0
PRODID:-//Deutsch Paraguayisches Kulturinstitut Goethe-Zentrum - ECPv6.15.20//NONSGML v1.0//EN
CALSCALE:GREGORIAN
METHOD:PUBLISH
X-WR-CALNAME:Deutsch Paraguayisches Kulturinstitut Goethe-Zentrum
X-ORIGINAL-URL:https://www.icpa-gz.org.py/DE
X-WR-CALDESC:Eventos para Deutsch Paraguayisches Kulturinstitut Goethe-Zentrum
REFRESH-INTERVAL;VALUE=DURATION:PT1H
X-Robots-Tag:noindex
X-PUBLISHED-TTL:PT1H
BEGIN:VTIMEZONE
TZID:America/Asuncion
BEGIN:STANDARD
TZOFFSETFROM:-0300
TZOFFSETTO:-0400
TZNAME:-04
DTSTART:20230326T030000
END:STANDARD
BEGIN:DAYLIGHT
TZOFFSETFROM:-0400
TZOFFSETTO:-0300
TZNAME:-03
DTSTART:20231001T040000
END:DAYLIGHT
BEGIN:STANDARD
TZOFFSETFROM:-0300
TZOFFSETTO:-0400
TZNAME:-04
DTSTART:20240324T030000
END:STANDARD
BEGIN:DAYLIGHT
TZOFFSETFROM:-0400
TZOFFSETTO:-0300
TZNAME:-03
DTSTART:20241006T040000
END:DAYLIGHT
BEGIN:STANDARD
TZOFFSETFROM:-0300
TZOFFSETTO:-0300
TZNAME:-03
DTSTART:20241015T030000
END:STANDARD
END:VTIMEZONE
BEGIN:VEVENT
DTSTART;VALUE=DATE:20240803
DTEND;VALUE=DATE:20240901
DTSTAMP:20260424T110802
CREATED:20240801T170839Z
LAST-MODIFIED:20240801T170933Z
UID:33544-1722643200-1725148799@www.icpa-gz.org.py
SUMMARY:Litoralidad: La Deíxis & El Vivero | Ausstellung im Container des ICPA-GZ
DESCRIPTION:Das Instituto Cultural Paraguayo-Alemán -Goethe-Zentrum lädt die Öffentlichkeit zur Eröffnung der Gruppenausstellung Litoralidad: La deíxis x El vivero am Freitag\, den 2. August um 19.00 Uhr ein. \nLitoralidad: La deíxis x El vivero ist das Ergebnis des Aufenthalts einer Gruppe paraguayischer Künstler:innen unter der Leitung der argentinischen Kuratoren Julián Barreto und Alejandro Vallejos. Diese Zusammenarbeit ist Teil des Projekts „La deíxis del río“ aus Paraguay und des Kulturraums El vivero aus der argentinischen Stadt Corrientes\, mit Unterstützung der ICPA-GZ. \nDas Thema der Ausstellung dreht sich um das Konzept der Küste und ihrer Territorien\, wobei der gemeinsame Fluss von Paraguay und Argentinien als Fixpunkt untersucht wird. Die Künstler:innen\, die an diesem Prozess teilgenommen haben\, sind die fünf Mitglieder von La deíxis del río: André Rolón\, Cecilia Avati\, Cristian Palacios\, James Morel und Sandra Dinnendahl López\, sowie die Gewinner:innen der Ausschreibung: Brahian Ayala\, Sile Delgado\, George Souza\, Jonatan Fernández\, Bélén Rodríguez und María Leticia Galeano. \nAussteller:innen | Instagram \n\nChin0 | @Chin0_2fk\nSile Delgado | @maison.sile\nGeo Souza | @geosouzaaaa\nJonatan Fernández | @jonatanmarce\nBelén Rodríguez | @br_belenrodriguez\nLeti Galeano | @semilla__roga\nAndre Rolon | @hazelrbbts\nCecilia Avati | @avatidaa\nCristian Palacios | @cristianpalafel\nJames Muriel | @j4m3s1tx\nSandra Dinnendahl López | @artesedele\n\nKurator:innen | Instagram \n\nJulián Barreto | @julianbarreto.ph\nAlejandro Joaquín Vallejos | @niniogrulla\n\nÖffnungszeiten\nDie Ausstellung wird am Freitag\, 02. August 2024\, um 19:00 Uhr eröffnet. Anschließend ist sie ab Samstag\, 03. August 2024\, im Rahmen der Öffnungszeiten des Instituts zugänglich:\nMontag bis Freitag | 08:00 Uhr bis 19:00 Uhr\nSamstag | 08:00 Uhr bis 12:00 Uhr \nDie Ausstellung bleibt bis Ende August geöffnet. \nContainer des ICPA-GZ\nJuan de Salazar y Espinoza 310 c/Artigas\nRicardo Brugada\nAsunción \n___ \nLitoralidad – La Deíxis & El Vivero ist ein Projekt von | Instagram\nAndre Rolon | @hazelrbbts\nCecilia Avati |@avatidaa\nCristian Palacios | @cristianpalafel\nJames Muriel | @j4m3s1tx\nSandra Dinnendahl López | @artesedele \nJulian Barreto | @julianbarreto.ph\nAlejandro Vallejos | @niniogrulla \nGefördert vom ICPA-GZ und El Vivero | elviverogaleria / Instagram
URL:https://www.icpa-gz.org.py/DE/evento/litoralidad-la-deixis-el-vivero-ausstellung-im-container-des-icpa-gz/
LOCATION:Container des ICPA-GZ\, Juan de Salazar 310 c/ Artigas Barrio Ricardo Brugada\, Asunción\, Paraguay
CATEGORIES:Ausstellung,gefördert vom ICPA-GZ,Präsenzveranstaltung
ATTACH;FMTTYPE=image/jpeg:https://www.icpa-gz.org.py/DE/wp-content/uploads/2024/07/WhatsApp-Image-2024-07-31-at-12.40.09.jpeg
END:VEVENT
BEGIN:VEVENT
DTSTART;VALUE=DATE:20240809
DTEND;VALUE=DATE:20240825
DTSTAMP:20260424T110802
CREATED:20240524T214109Z
LAST-MODIFIED:20240802T221937Z
UID:27786-1723161600-1724543999@www.icpa-gz.org.py
SUMMARY:Luciérnagas humanas al ras de la tierra de Marcos Benítez - Ausstellung | PintaSudASU
DESCRIPTION:Der paraguayische Künstler Marcos Benítez | @marcosbenitezb / Instagram wird auf der kommenden PintaSudASU seine Einzelausstellung „Luciérnagas humanas al ras de la tierra“ präsentieren. Es handelt sich um eine Videoinstallation\, die dich an den frühen Morgen der Laguna Cateura\, der städtischen Mülldeponie von Asunción\, entführt. Dort erlebte Marcos Benítez die Härte der Nachtarbeit\, die Trostlosigkeit und die Plünderung. Aber auch die Würde und Zärtlichkeit von Wesen\, die durch Not und Hilflosigkeit entfremdet sind. Der Name spielt auf das prekäre Beleuchtungssystem an\, mit dem man sich durch den Abfall gräbt. Die Projektion findet im Inneren eines großen schwarzen Beutels statt\, in den die Zuschauer:innen eintreten muss. \nKuratiert von Adriana Almada | adrianaa.py / Instagram \nIm Rahmen der Kunstwoche Pinta Sud\nPágina web | Facebook | Instagram | X | YouTube  \n\n\nÖffnungszeiten der Ausstellung\nDie Ausstellung wird am Donnerstag\, den 08. August 2024 von 18:00 bis 21:00 Uhr eröffnet.\nAb Freitag\, dem 09. August 2024\, ist sie zu den Öffnungszeiten des Instituts zu besichtigen:\nMontag bis Freitag | 08:00 bis 19:00 Uhr\nSamstags | 08:00 bis 12:00 Uhr \nEintritt frei \nSalón Rolando Rasmussen\nInstituto Cultural Paraguayo-Alemán – Goethe-Zentrum\nJuan de Salazar 310 c/Artigas\nRicardo Brugada\nAsunción \nGefördert vom ICPA-GZ
URL:https://www.icpa-gz.org.py/DE/evento/pinta-sud-gefordert-vom-icpa-gz/
LOCATION:Salón Rolando Rasmussen des Instituto Cultural Paraguayo-Alemán – Goethe-Zentrum | ICPA-GZ\, Juan de Salazar 310 c/ Artigas Barrio Ricardo Brugada\, Asunción\, Distrito Capital\, Paraguay
CATEGORIES:Ausstellung,gefördert vom ICPA-GZ,Kunst,PintaSudASU,Präsenzveranstaltung
ATTACH;FMTTYPE=image/jpeg:https://www.icpa-gz.org.py/DE/wp-content/uploads/2024/05/WhatsApp-Image-2024-08-01-at-20.07.18.jpeg
END:VEVENT
END:VCALENDAR