BEGIN:VCALENDAR
VERSION:2.0
PRODID:-//Deutsch Paraguayisches Kulturinstitut Goethe-Zentrum - ECPv6.15.20//NONSGML v1.0//EN
CALSCALE:GREGORIAN
METHOD:PUBLISH
X-ORIGINAL-URL:https://www.icpa-gz.org.py/DE
X-WR-CALDESC:Eventos para Deutsch Paraguayisches Kulturinstitut Goethe-Zentrum
REFRESH-INTERVAL;VALUE=DURATION:PT1H
X-Robots-Tag:noindex
X-PUBLISHED-TTL:PT1H
BEGIN:VTIMEZONE
TZID:America/Asuncion
BEGIN:STANDARD
TZOFFSETFROM:-0300
TZOFFSETTO:-0400
TZNAME:-04
DTSTART:20230326T030000
END:STANDARD
BEGIN:DAYLIGHT
TZOFFSETFROM:-0400
TZOFFSETTO:-0300
TZNAME:-03
DTSTART:20231001T040000
END:DAYLIGHT
BEGIN:STANDARD
TZOFFSETFROM:-0300
TZOFFSETTO:-0400
TZNAME:-04
DTSTART:20240324T030000
END:STANDARD
BEGIN:DAYLIGHT
TZOFFSETFROM:-0400
TZOFFSETTO:-0300
TZNAME:-03
DTSTART:20241006T040000
END:DAYLIGHT
BEGIN:STANDARD
TZOFFSETFROM:-0300
TZOFFSETTO:-0300
TZNAME:-03
DTSTART:20241015T030000
END:STANDARD
END:VTIMEZONE
BEGIN:VEVENT
DTSTART;TZID=America/Asuncion:20240725T190000
DTEND;TZID=America/Asuncion:20240725T210000
DTSTAMP:20260424T032132
CREATED:20240524T220239Z
LAST-MODIFIED:20240625T210625Z
UID:27824-1721934000-1721941200@www.icpa-gz.org.py
SUMMARY:Immanuel Kant-Konferenz | Tag II/III
DESCRIPTION:Tag I | Mittwoch\, 24. Juli 2024\nI Im Herzen von Kant und der Aufklärung: Die Nicht-Debatte zwischen Foucault und Habermas\nRaúl Acevedo \nII Kants Einfluss auf Schopenhauer\nRoberto León Helman \nTag II | Donnerstag\, 25. Juli 2024\nI Die Philosophie der Geschichte bei Kant\nSergio Cáceres Mercado \nII Kant\, gerechte und willkürliche Autorität\nJuan Andrés Cardozo \nTag III | Freitag\, 26. Juli 2024\nI Lucien Goldmann\, eine marxistische Lesart der Philosophie Kants\nÁngel Estigarribia \nII Kant: Die Zukunft der Metaphysik (und der Menschheit)\nDarío Sarah \n___ \nMittwoch\, 24. Juli 2024\, bis Freitag\, 26. Juli 2024\n19:00 bis 21:00 Uhr \nEintritt frei\nOffen für alle Zuhörer:innen\nWer zuerst kommt\, mahlt zuerst \n\nSalón Rolando Rasmussen\n\n\nInstituto Cultural Paraguayo-Alemán – Goethe-Zentrum\n\n\nJuan de Salazar 310 c/Artigas\n\n\nRicardo Brugada\n\n\nAsunción\n\nOrganisiert von Rául Acevedo et al. \nGefördert vom Deutsch-Paraguayischen Kulturinstitut – Goethe-Zentrum | ICPA-GZ
URL:https://www.icpa-gz.org.py/DE/evento/immanuel-kant-konferenz-tag-ii-iii/
LOCATION:Salón Rolando Rasmussen des Instituto Cultural Paraguayo-Alemán – Goethe-Zentrum | ICPA-GZ\, Juan de Salazar 310 c/ Artigas Barrio Ricardo Brugada\, Asunción\, Distrito Capital\, Paraguay
CATEGORIES:gefördert vom ICPA-GZ,Konferenz,Präsenzveranstaltung
ATTACH;FMTTYPE=image/png:https://www.icpa-gz.org.py/DE/wp-content/uploads/2024/05/2.png
END:VEVENT
END:VCALENDAR