BEGIN:VCALENDAR
VERSION:2.0
PRODID:-//Deutsch Paraguayisches Kulturinstitut Goethe-Zentrum - ECPv6.15.20//NONSGML v1.0//EN
CALSCALE:GREGORIAN
METHOD:PUBLISH
X-ORIGINAL-URL:https://www.icpa-gz.org.py/DE
X-WR-CALDESC:Eventos para Deutsch Paraguayisches Kulturinstitut Goethe-Zentrum
REFRESH-INTERVAL;VALUE=DURATION:PT1H
X-Robots-Tag:noindex
X-PUBLISHED-TTL:PT1H
BEGIN:VTIMEZONE
TZID:America/Asuncion
BEGIN:STANDARD
TZOFFSETFROM:-0300
TZOFFSETTO:-0400
TZNAME:-04
DTSTART:20230326T030000
END:STANDARD
BEGIN:DAYLIGHT
TZOFFSETFROM:-0400
TZOFFSETTO:-0300
TZNAME:-03
DTSTART:20231001T040000
END:DAYLIGHT
BEGIN:STANDARD
TZOFFSETFROM:-0300
TZOFFSETTO:-0400
TZNAME:-04
DTSTART:20240324T030000
END:STANDARD
BEGIN:DAYLIGHT
TZOFFSETFROM:-0400
TZOFFSETTO:-0300
TZNAME:-03
DTSTART:20241006T040000
END:DAYLIGHT
BEGIN:STANDARD
TZOFFSETFROM:-0300
TZOFFSETTO:-0300
TZNAME:-03
DTSTART:20241015T030000
END:STANDARD
END:VTIMEZONE
BEGIN:VEVENT
DTSTART;TZID=America/Asuncion:20240720T090000
DTEND;TZID=America/Asuncion:20240720T170000
DTSTAMP:20260424T130537
CREATED:20240704T180317Z
LAST-MODIFIED:20240715T212249Z
UID:32064-1721466000-1721494800@www.icpa-gz.org.py
SUMMARY:Methodik der Berichterstattung - Master Class | Walter Astrada
DESCRIPTION:Dieser eintägige Workshop bietet einen Überblick über die verschiedenen Ansätze zur Erstellung von Fotostorys und ermöglicht den Teilnehmer:innen eine Diskussion über die am besten geeigneten Methoden zur Erstellung einer Story. Anhand von Beispielen aus meiner eigenen Arbeit werde ich Tipps und Techniken zur Verbesserung der Produktion\, Bearbeitung und Verbreitung von Geschichten vermitteln. Dieser Workshop richtet sich an alle\, die sich für visuelles Storytelling interessieren\, Erfahrung ist nicht erforderlich. Gemeinsam werden wir die Reportagen anderer Fotograf:innen analysieren und verschiedene Ansätze erkunden. \n___ \nWalter Astrada | walterastrada / Instagram\nEr arbeitet unabhängig\, hauptsächlich an langfristigen Projekten\, wie einem persönlichen Projekt über Gewalt gegen Frauen weltweit und einem Gruppenprojekt über Menschen\, die in ganz Europa von Multipler Sklerose betroffen sind. Er hält Vorträge und Workshops und ist Mitglied des Ausbilderteams von World Press Photo. \nSamstag\, 20. Juli 2024\n09:00 Uhr bis 17:00 Uhr \nKostenlose Teilnahme | Zertifikat 50.000 Gs.\nZur vorherigen Anmeldung \nInstituto Cultural Paraguayo-Alemán – Goethe-Zentrum\nJuan de Salazar  Espinoza 310 c/ Artigas\nRicardo Brugada\nAsunción
URL:https://www.icpa-gz.org.py/DE/evento/master-class-fotografie-walter-astrada/
LOCATION:Instituto Cultural Paraguayo-Alemán – Goethe-Zentrum | ICPA-GZ\, Juan de Salazar 310 c/ Artigas_\, Asuncion\, 3500\, Paraguay
CATEGORIES:Fortbildung,Fotografie,gefördert vom ICPA-GZ,Präsenzveranstaltung,Workshop
ATTACH;FMTTYPE=image/png:https://www.icpa-gz.org.py/DE/wp-content/uploads/2024/07/ICPA_WalterAstrada-Masterclass.png
END:VEVENT
END:VCALENDAR