BEGIN:VCALENDAR
VERSION:2.0
PRODID:-//Deutsch Paraguayisches Kulturinstitut Goethe-Zentrum - ECPv6.15.20//NONSGML v1.0//EN
CALSCALE:GREGORIAN
METHOD:PUBLISH
X-ORIGINAL-URL:https://www.icpa-gz.org.py/DE
X-WR-CALDESC:Eventos para Deutsch Paraguayisches Kulturinstitut Goethe-Zentrum
REFRESH-INTERVAL;VALUE=DURATION:PT1H
X-Robots-Tag:noindex
X-PUBLISHED-TTL:PT1H
BEGIN:VTIMEZONE
TZID:America/Asuncion
BEGIN:STANDARD
TZOFFSETFROM:-0300
TZOFFSETTO:-0400
TZNAME:-04
DTSTART:20230326T030000
END:STANDARD
BEGIN:DAYLIGHT
TZOFFSETFROM:-0400
TZOFFSETTO:-0300
TZNAME:-03
DTSTART:20231001T040000
END:DAYLIGHT
BEGIN:STANDARD
TZOFFSETFROM:-0300
TZOFFSETTO:-0400
TZNAME:-04
DTSTART:20240324T030000
END:STANDARD
BEGIN:DAYLIGHT
TZOFFSETFROM:-0400
TZOFFSETTO:-0300
TZNAME:-03
DTSTART:20241006T040000
END:DAYLIGHT
BEGIN:STANDARD
TZOFFSETFROM:-0300
TZOFFSETTO:-0300
TZNAME:-03
DTSTART:20241015T030000
END:STANDARD
END:VTIMEZONE
BEGIN:VEVENT
DTSTART;VALUE=DATE:20240704
DTEND;VALUE=DATE:20240717
DTSTAMP:20260424T104907
CREATED:20240704T215749Z
LAST-MODIFIED:20240716T172910Z
UID:32230-1720051200-1721174399@www.icpa-gz.org.py
SUMMARY:Litoralidad: La Deíxis & El Vivero | Projektausschreibung
DESCRIPTION:Das Projekt Litoralidad: La Deíxis & El Vivero ist eine Zusammenarbeit zwischen dem Projekt La Deíxis del Río aus Paraguay und dem Kulturraum El Vivero aus Corrientes\, Argentinien\, mit Unterstützung des ICPA-GZ. Die Leiter von El Vivero\, Julian Barreto und Alejandro Vallejos\, werden den Entstehungsprozess der Arbeiten leiten\, die in einer Gruppenausstellung münden werden. Das Projekt richtet sich an 3 Künstler:innen aus Concepción und 3 Künstler:innen aus dem Rest des Landes und beginnt am Donnerstag\, den 25. Juli 2024. Jede/r ausgewählte Teilnehmer:in wird 200 Euro erhalten. \nWeitere Informationen in den Teilnahmebedingungen (esp) | pdf \nBewerbungen können bis einschließlich Mittwoch\, 17. Juli 2024\, mittels dieses Formulares eingereicht werden. \n___ \nLitoralidad – La Deíxis & El Vivero ist ein Projekt von | Instagram\nParaguay\nAndre Rolon | @hazelrbbts\nCecilia Avati | @avatidaa\nCristian Palacios | @cristianpalafel\nJames Muriel | @j4m3s1tx\nSandra Dinnendahl López | @artesedele\nArgentinien\nJulian Barreto | @julianbarreto.ph\nAlejandro Vallejos | @niniogrulla \nGefördert vom ICPA-GZ und El Vivero | elviverogaleria / Instagram
URL:https://www.icpa-gz.org.py/DE/evento/litoralidad-la-deixis-x-el-vivero-ausschreibung/
LOCATION:online\, Paraguay
CATEGORIES:Ausschreibung,Ausstellung,gefördert vom ICPA-GZ,Kunst
ATTACH;FMTTYPE=image/jpeg:https://www.icpa-gz.org.py/DE/wp-content/uploads/2024/07/WhatsApp-Image-2024-07-04-at-12.16.54.jpeg
END:VEVENT
END:VCALENDAR