BEGIN:VCALENDAR
VERSION:2.0
PRODID:-//Deutsch Paraguayisches Kulturinstitut Goethe-Zentrum - ECPv6.15.20//NONSGML v1.0//EN
CALSCALE:GREGORIAN
METHOD:PUBLISH
X-ORIGINAL-URL:https://www.icpa-gz.org.py/DE
X-WR-CALDESC:Eventos para Deutsch Paraguayisches Kulturinstitut Goethe-Zentrum
REFRESH-INTERVAL;VALUE=DURATION:PT1H
X-Robots-Tag:noindex
X-PUBLISHED-TTL:PT1H
BEGIN:VTIMEZONE
TZID:America/Asuncion
BEGIN:STANDARD
TZOFFSETFROM:-0300
TZOFFSETTO:-0400
TZNAME:-04
DTSTART:20230326T030000
END:STANDARD
BEGIN:DAYLIGHT
TZOFFSETFROM:-0400
TZOFFSETTO:-0300
TZNAME:-03
DTSTART:20231001T040000
END:DAYLIGHT
BEGIN:STANDARD
TZOFFSETFROM:-0300
TZOFFSETTO:-0400
TZNAME:-04
DTSTART:20240324T030000
END:STANDARD
BEGIN:DAYLIGHT
TZOFFSETFROM:-0400
TZOFFSETTO:-0300
TZNAME:-03
DTSTART:20241006T040000
END:DAYLIGHT
BEGIN:STANDARD
TZOFFSETFROM:-0300
TZOFFSETTO:-0300
TZNAME:-03
DTSTART:20241015T030000
END:STANDARD
END:VTIMEZONE
BEGIN:VEVENT
DTSTART;TZID=America/Asuncion:20240703T140000
DTEND;TZID=America/Asuncion:20240703T160000
DTSTAMP:20260423T235436
CREATED:20240628T205430Z
LAST-MODIFIED:20240701T202617Z
UID:31626-1720015200-1720022400@www.icpa-gz.org.py
SUMMARY:Living Bach - Encarnación / Vorführung I | gefördert vom ICPA-GZ
DESCRIPTION:LIVING BACH\nRegie  Anna Schmidt\nGenre  Dokumentarfilm\nLaufzeit  116 Minuten \nMittwoch\, 03. Juli 2024\nVorführung I / 14:00 Uhr \nDonnerstag\, 04. Juli 2024\nVorführung II / 08:00 Uhr \nEintritt frei \nAuditorio Mcal. Francisco Solano López\nPedro Juan Caballero\nEncarnación \nGefördert von\nInstituto Cultural Paraguayo-Alemán – Goethe-Zentrum | ICPA-GZ\nDeutsche Botschaft Asunción\nGobernación de Itapúa \nÜBER DEN FILM\nAnna Schmidts Living Bach ist ein inspirierender Film über die Kraft der Musik\, Menschen über Kontinente hinweg zu verbinden. Mit atemberaubenden Bildern und den magischen Klängen von Bach wird diese musikalische Reise zu einem einzigartigen Werk. Der Film\, an dem unter anderem die Bach-Gesellschaft Paraguays und der Tenor David Portillo vom Bach-Collegium in Asunción mitgewirkt haben\, wurde in 40 Kinos in Deutschland gezeigt. \nÜBER DIE REGISSEURIN\nAnna Schmidt ist eine erfahrene und einfühlsame Autorin mit einem frischen Zugang zu bekannten Themen. Ihre Filme sind international anerkannt und haben sowohl im Fernsehen als auch im Kino großes Ansehen erlangt. Mit einem feinen Gespür für relevante Geschichten entwickelt und produziert Schmidt anspruchsvolle Film- und Fernsehdokumentationen für den nationalen und internationalen Markt. Anna Schmidt ist Absolventin der Spezialschule für Musik in Wernigerode. Sie studierte Journalistik und Musikwissenschaft an der Universität Leipzig und Politikwissenschaft an der Universität Amsterdam. Im Jahr 1993 erwarb sie einen Abschluss in Journalismus und Musikwissenschaft. Danach arbeitete sie als freie Autorin für den Rundfunk und später für das Fernsehen in Deutschland und den Niederlanden. Von 1996 bis 2005 war sie als Korrespondentin für das niederländische Fernsehen in Deutschland tätig. Im Jahr 2001 machte sie ihren Abschluss an der Discovery Campus Masterschool. 1998 gründete sie die Filmproduktionsfirma SchmidtFilm und produziert seitdem erfolgreich Musik-\, historische und biografische Dokumentarfilme. \n  \n \n 
URL:https://www.icpa-gz.org.py/DE/evento/living-bach-encarnacion-vorfuhrung-ii-gefordert-vom-icpa-gz/
LOCATION:Auditorio Mcal. Francisco Solano López | Encarnación\, Pedro Juan Caballero\, Encarnación\, Itapúa\, Paraguay
CATEGORIES:Botschaft der Bundesrepublik Deutschland in Asunción,Filmtheater,gefördert vom ICPA-GZ,Präsenzveranstaltung
ATTACH;FMTTYPE=image/jpeg:https://www.icpa-gz.org.py/DE/wp-content/uploads/2024/07/WhatsApp-Image-2024-07-01-at-15.59.37.jpeg
ORGANIZER;CN="Centro Cultural Paraguayo Alem%C3%A1n de Encarnaci%C3%B3n | CCPAE":MAILTO:ccpaencarnacion@gmail.com
END:VEVENT
BEGIN:VEVENT
DTSTART;TZID=America/Asuncion:20240703T180000
DTEND;TZID=America/Asuncion:20240703T200000
DTSTAMP:20260423T235436
CREATED:20240523T202544Z
LAST-MODIFIED:20240624T214458Z
UID:27379-1720029600-1720036800@www.icpa-gz.org.py
SUMMARY:Der Übergang von der Agrarindustrie zur Agrarökologie - Forum | BASE Investigaciones Sociales
DESCRIPTION:Dozent:in\nSoledad Martínez | soledad.martinezstark / Instagram\nAdriano Muñoz | adriano_agroecologo / Instagram\n.\n\nOrganisiert von BASE Investigaciones Sociales | BASE-IS\nWebseite | Facebook | Instagram | X | YouTube\n\n\n .\n\n\nMittwoch\, 03. Juli 2024\n18:00 Uhr\n\n\nEintritt frei\n\n\n.\nSalón Rolando Rasmussen\n\n\nInstituto Cultural Paraguayo-Alemán – Goethe-Zentrum\n\n\nJuan de Salazar 310 c/Artigas\n\n\nRicardo Brugada\n\n\nAsunción\n\n.\n+ Information | Webseite der Veranstaltung\n\n .\n\n\nGefördert vom ICPA-GZ
URL:https://www.icpa-gz.org.py/DE/evento/forum-base-investigaciones-sociales-2/
LOCATION:Salón Rolando Rasmussen des Instituto Cultural Paraguayo-Alemán – Goethe-Zentrum | ICPA-GZ\, Juan de Salazar 310 c/ Artigas Barrio Ricardo Brugada\, Asunción\, Distrito Capital\, Paraguay
CATEGORIES:Forum,gefördert vom ICPA-GZ,Präsenzveranstaltung
ATTACH;FMTTYPE=image/jpeg:https://www.icpa-gz.org.py/DE/wp-content/uploads/2024/05/19062024.jpg
ORGANIZER;CN="BASE Investigaciones Sociales | BASE-IS":MAILTO:baseis@baseis.org.py
END:VEVENT
END:VCALENDAR