BEGIN:VCALENDAR
VERSION:2.0
PRODID:-//Deutsch Paraguayisches Kulturinstitut Goethe-Zentrum - ECPv6.15.20//NONSGML v1.0//EN
CALSCALE:GREGORIAN
METHOD:PUBLISH
X-ORIGINAL-URL:https://www.icpa-gz.org.py/DE
X-WR-CALDESC:Eventos para Deutsch Paraguayisches Kulturinstitut Goethe-Zentrum
REFRESH-INTERVAL;VALUE=DURATION:PT1H
X-Robots-Tag:noindex
X-PUBLISHED-TTL:PT1H
BEGIN:VTIMEZONE
TZID:America/Asuncion
BEGIN:STANDARD
TZOFFSETFROM:-0300
TZOFFSETTO:-0400
TZNAME:-04
DTSTART:20230326T030000
END:STANDARD
BEGIN:DAYLIGHT
TZOFFSETFROM:-0400
TZOFFSETTO:-0300
TZNAME:-03
DTSTART:20231001T040000
END:DAYLIGHT
BEGIN:STANDARD
TZOFFSETFROM:-0300
TZOFFSETTO:-0400
TZNAME:-04
DTSTART:20240324T030000
END:STANDARD
BEGIN:DAYLIGHT
TZOFFSETFROM:-0400
TZOFFSETTO:-0300
TZNAME:-03
DTSTART:20241006T040000
END:DAYLIGHT
BEGIN:STANDARD
TZOFFSETFROM:-0300
TZOFFSETTO:-0300
TZNAME:-03
DTSTART:20241015T030000
END:STANDARD
END:VTIMEZONE
BEGIN:VEVENT
DTSTART;TZID=America/Asuncion:20240622T140000
DTEND;TZID=America/Asuncion:20240622T170000
DTSTAMP:20260423T162222
CREATED:20240613T204547Z
LAST-MODIFIED:20240613T204631Z
UID:30338-1719064800-1719075600@www.icpa-gz.org.py
SUMMARY:PARTIR - Die Filmwerkstatt im Prozess | Federico Adorno
DESCRIPTION:Ausgehend von einem einzigen Wort\, das in die Krise gerät\, will dieser Workshop ein Bewusstsein für den Prozess und die möglichen Techniken für die Konzeption der ersten Merkmale der Schaffung eines bewegten Bildes schaffen\, das – wenn auch nicht immer – vom Wort\, d.h. von der grafischen Darstellung\, ausgehen könnte\, das aber zur Erzeugung möglicher bewegter oder statischer Universen in diesem Kontext führen könnte: Paraguay oder das vom Urheber eines künstlerischen Vorschlags erzeugte Universum. \nUm dies zu erreichen\, wird in diesem Workshop\, der am Rande der Krise oder vielleicht sogar in der Krise selbst angesiedelt ist\, vorgeschlagen\, sich ihr vom Wort her zu nähern\, mit Hilfe der Möglichkeiten\, die das Textverarbeitungsprogramm und/oder die vorhandenen Peripheriegeräte bieten\, was zu einem passiven\, aber nicht passiven Text führt\, um Bewegungen\, Geschichten\, Erzählungen innerhalb eines ersten Prozesses zu erzeugen\, der unter den Teilnehmern des Workshops diskutiert und geteilt wird. \nJede:r Teilnehmer:in muss einen “freien” Vorschlag innerhalb der Parameter des vorgeschlagenen Wortes machen und ihn zunächst mit seiner eigenen Person konfrontieren\, um ihn dann mit den Teilnehmer:innen des Workshops zu teilen. Diese Technik ist als ein Weg gedacht\, eine Disziplin des Schaffens zu erzeugen\, die der/die Künstler:in im selben Universum fortsetzen oder eine Denkweise aufbauen kann\, solange sie frei ist\, denn entweder ist sie frei oder sie wird nie eine künstlerische Kreation sein. \nWorkshop organisiert von Federico Adorno | @fede.adorno / Instagram\nRegisseur | Teilnehmer der Internationelen Kurzfilmtage Oberhausen in Deutschland. \nDer Workshop richtet sich an Studierende der Fachrichtungen Film\, Audiovisuelles und Theater. \nSamstag\, 22. Juni 2024\n14:00 bis 17:00 Uhr \nTeilnahme kostenlos \nInstituto Cultural Paraguayo-Alemán – Goethe-Zentrum l ICPA-GZ\nJuan de Salazar 310 c/Artigas\nRicardo Brugada\nAsunción \nSende deinen Vorschlag von maximal zwei Seiten im pdf-Format mit dem Wort “partir” bis zum 18. Juni 2024 an diesen Link: \nZUR EINSCHREIBUNG
URL:https://www.icpa-gz.org.py/DE/evento/partir-die-werkstatt-im-prozess-federico-adorno/
LOCATION:Instituto Cultural Paraguayo-Alemán – Goethe-Zentrum | ICPA-GZ\, Juan de Salazar 310 c/ Artigas_\, Asuncion\, 3500\, Paraguay
CATEGORIES:Filmtheater,gefördert vom ICPA-GZ,Präsenzveranstaltung,Workshop
ATTACH;FMTTYPE=image/png:https://www.icpa-gz.org.py/DE/wp-content/uploads/2024/06/ICPA_FedericoAdorno-1_kl.png
END:VEVENT
BEGIN:VEVENT
DTSTART;TZID=America/Asuncion:20240622T170000
DTEND;TZID=America/Asuncion:20240622T180000
DTSTAMP:20260423T162222
CREATED:20240612T205407Z
LAST-MODIFIED:20240613T174141Z
UID:30207-1719075600-1719079200@www.icpa-gz.org.py
SUMMARY:Historias de Sudamérica - Kurzfilm von Federico Adorno | gefördert vom ICPA-GZ
DESCRIPTION:Kurzfilm von Federico Adorno | @fede.adorno / Instagram\nVorführung im Beisein des Regisseurs \nNominierter Beitrag des deutschen Kurzfilmfestivals\nKurzfilmtage Oberhausen \nSamstag\, 22. Juni 2024\n17:00 Uhr \nEintritt frei \nSalón Rolando Rasmussen del ICPA-GZ\nJuan de Salazar 310 c/Artigas\nRicardo Brugada\nAsunción \nWir freuen uns auf Dich! \n  \n 
URL:https://www.icpa-gz.org.py/DE/evento/historias-de-sudamerica-kurzfilm-von-federico-adorno-gefordert-vom-icpa-gz/
LOCATION:Salón Rolando Rasmussen des Instituto Cultural Paraguayo-Alemán – Goethe-Zentrum | ICPA-GZ\, Juan de Salazar 310 c/ Artigas Barrio Ricardo Brugada\, Asunción\, Distrito Capital\, Paraguay
CATEGORIES:Festival,Filmtheater,gefördert vom ICPA-GZ,Präsenzveranstaltung
ATTACH;FMTTYPE=image/png:https://www.icpa-gz.org.py/DE/wp-content/uploads/2024/06/Historias_peq.png
END:VEVENT
END:VCALENDAR