BEGIN:VCALENDAR
VERSION:2.0
PRODID:-//Deutsch Paraguayisches Kulturinstitut Goethe-Zentrum - ECPv6.15.20//NONSGML v1.0//EN
CALSCALE:GREGORIAN
METHOD:PUBLISH
X-ORIGINAL-URL:https://www.icpa-gz.org.py/DE
X-WR-CALDESC:Eventos para Deutsch Paraguayisches Kulturinstitut Goethe-Zentrum
REFRESH-INTERVAL;VALUE=DURATION:PT1H
X-Robots-Tag:noindex
X-PUBLISHED-TTL:PT1H
BEGIN:VTIMEZONE
TZID:America/Asuncion
BEGIN:STANDARD
TZOFFSETFROM:-0300
TZOFFSETTO:-0400
TZNAME:-04
DTSTART:20230326T030000
END:STANDARD
BEGIN:DAYLIGHT
TZOFFSETFROM:-0400
TZOFFSETTO:-0300
TZNAME:-03
DTSTART:20231001T040000
END:DAYLIGHT
BEGIN:STANDARD
TZOFFSETFROM:-0300
TZOFFSETTO:-0400
TZNAME:-04
DTSTART:20240324T030000
END:STANDARD
BEGIN:DAYLIGHT
TZOFFSETFROM:-0400
TZOFFSETTO:-0300
TZNAME:-03
DTSTART:20241006T040000
END:DAYLIGHT
BEGIN:STANDARD
TZOFFSETFROM:-0300
TZOFFSETTO:-0300
TZNAME:-03
DTSTART:20241015T030000
END:STANDARD
END:VTIMEZONE
BEGIN:VEVENT
DTSTART;TZID=America/Asuncion:20240620T193000
DTEND;TZID=America/Asuncion:20240620T210000
DTSTAMP:20260423T162213
CREATED:20240521T215509Z
LAST-MODIFIED:20240609T170606Z
UID:27116-1718911800-1718917200@www.icpa-gz.org.py
SUMMARY:Kammerkonzertzyklus | Pu Joa
DESCRIPTION:Kammermusik mit zeitgenössischem Programm \nWerke von\nI. Xenakis\, G. Paraskevaídis\, C. Rodríguez y M. Etkin \nInterpret:innen\nGiammaria Tesei\, César Flecha\, Esther López\nJoaquín Lezcano\, María Benítez y Laura Alvarenga \nOrganisiert von Pu Joa\nFacebook | Instagram | YouTube  \nDonnerstag\, 20. Juni 2024\n19:30 Uhr \nEintritt frei \nSalón Rolando Rasmussen\nInstituto Cultural Paraguayo-Alemán – Goethe-Zentrum\nJuan de Salazar 310 c/Artigas\nRicardo Brugada\nAsunción \nGefördert vom ICPA-GZ
URL:https://www.icpa-gz.org.py/DE/evento/konzert-pu-joa/
LOCATION:Salón Rolando Rasmussen des Instituto Cultural Paraguayo-Alemán – Goethe-Zentrum | ICPA-GZ\, Juan de Salazar 310 c/ Artigas Barrio Ricardo Brugada\, Asunción\, Distrito Capital\, Paraguay
CATEGORIES:gefördert vom ICPA-GZ,Konzert,Präsenzveranstaltung
ATTACH;FMTTYPE=image/jpeg:https://www.icpa-gz.org.py/DE/wp-content/uploads/2024/05/b6f8464c-5514-4935-824c-f7ff5fe44018.jpg
END:VEVENT
END:VCALENDAR