BEGIN:VCALENDAR
VERSION:2.0
PRODID:-//Deutsch Paraguayisches Kulturinstitut Goethe-Zentrum - ECPv6.15.20//NONSGML v1.0//EN
CALSCALE:GREGORIAN
METHOD:PUBLISH
X-ORIGINAL-URL:https://www.icpa-gz.org.py/DE
X-WR-CALDESC:Eventos para Deutsch Paraguayisches Kulturinstitut Goethe-Zentrum
REFRESH-INTERVAL;VALUE=DURATION:PT1H
X-Robots-Tag:noindex
X-PUBLISHED-TTL:PT1H
BEGIN:VTIMEZONE
TZID:America/Asuncion
BEGIN:STANDARD
TZOFFSETFROM:-0300
TZOFFSETTO:-0400
TZNAME:-04
DTSTART:20230326T030000
END:STANDARD
BEGIN:DAYLIGHT
TZOFFSETFROM:-0400
TZOFFSETTO:-0300
TZNAME:-03
DTSTART:20231001T040000
END:DAYLIGHT
BEGIN:STANDARD
TZOFFSETFROM:-0300
TZOFFSETTO:-0400
TZNAME:-04
DTSTART:20240324T030000
END:STANDARD
BEGIN:DAYLIGHT
TZOFFSETFROM:-0400
TZOFFSETTO:-0300
TZNAME:-03
DTSTART:20241006T040000
END:DAYLIGHT
BEGIN:STANDARD
TZOFFSETFROM:-0300
TZOFFSETTO:-0300
TZNAME:-03
DTSTART:20241015T030000
END:STANDARD
END:VTIMEZONE
BEGIN:VEVENT
DTSTART;TZID=America/Asuncion:20240616T153000
DTEND;TZID=America/Asuncion:20240616T170000
DTSTAMP:20260423T162224
CREATED:20240611T211826Z
LAST-MODIFIED:20240612T161631Z
UID:29995-1718551800-1718557200@www.icpa-gz.org.py
SUMMARY:Workshop zum öffentlichen Reden - Itauguá | gefördert vom ICPA-GZ
DESCRIPTION:Unter der Leitung von Ana Ivanova\nla.ivanova / Instagram\ncircuito.fallando.aprendo / Instagram \nSonntag\, 16. Juni 2024\n15:30 bis 17:00 Uhr \nKostenlose Teilnahme\nErst werden Teilnahmezertifikate ausgestellt \nOpy – Espacio cultural y Centro de aprendizaje artístico\nItauguá \n+ Information\nElias | +595 984 377 913 \nGefördert vom ICPA-GZ
URL:https://www.icpa-gz.org.py/DE/evento/workshop-zum-offentlichen-reden/
LOCATION:Opy – Espacio cultural y Centro de aprendizaje artístico\, Itauguá\, Central\, Paraguay
CATEGORIES:gefördert vom ICPA-GZ,Präsenzveranstaltung,Workshop
ATTACH;FMTTYPE=image/jpeg:https://www.icpa-gz.org.py/DE/wp-content/uploads/2024/06/448021094_1767133120476405_8948861835164151742_n.jpg
END:VEVENT
BEGIN:VEVENT
DTSTART;TZID=America/Asuncion:20240616T173000
DTEND;TZID=America/Asuncion:20240616T190000
DTSTAMP:20260423T162224
CREATED:20240611T212155Z
LAST-MODIFIED:20240612T162612Z
UID:30019-1718559000-1718564400@www.icpa-gz.org.py
SUMMARY:Quatsch und die Nasenbärbande - Kinderkino in Itauguá | geflördert vom ICPA-GZ
DESCRIPTION:Veith Helmer | Regisseur\nSpanische Untertitel \nSonntag\, 16. Juni 2024\n17:30 Uhr \nEintritt frei \nOpy – Espacio cultural y Centro de aprendizaje artístico\nItauguá \n+ Information\nElias | +595 984 377 913 \nGefördert vom ICPA-GZ
URL:https://www.icpa-gz.org.py/DE/evento/quatsch-und-die-nasenbarbande-kinderkino-in-itaugua-geflordert-vom-icpa-gz/
LOCATION:Opy – Espacio cultural y Centro de aprendizaje artístico\, Itauguá\, Central\, Paraguay
CATEGORIES:Filmtheater,gefördert vom ICPA-GZ,Präsenzveranstaltung
ATTACH;FMTTYPE=image/jpeg:https://www.icpa-gz.org.py/DE/wp-content/uploads/2024/06/448021094_1767133120476405_8948861835164151742_n.jpg
END:VEVENT
END:VCALENDAR