BEGIN:VCALENDAR
VERSION:2.0
PRODID:-//Deutsch Paraguayisches Kulturinstitut Goethe-Zentrum - ECPv6.15.20//NONSGML v1.0//EN
CALSCALE:GREGORIAN
METHOD:PUBLISH
X-WR-CALNAME:Deutsch Paraguayisches Kulturinstitut Goethe-Zentrum
X-ORIGINAL-URL:https://www.icpa-gz.org.py/DE
X-WR-CALDESC:Eventos para Deutsch Paraguayisches Kulturinstitut Goethe-Zentrum
REFRESH-INTERVAL;VALUE=DURATION:PT1H
X-Robots-Tag:noindex
X-PUBLISHED-TTL:PT1H
BEGIN:VTIMEZONE
TZID:America/Asuncion
BEGIN:STANDARD
TZOFFSETFROM:-0300
TZOFFSETTO:-0400
TZNAME:-04
DTSTART:20230326T030000
END:STANDARD
BEGIN:DAYLIGHT
TZOFFSETFROM:-0400
TZOFFSETTO:-0300
TZNAME:-03
DTSTART:20231001T040000
END:DAYLIGHT
BEGIN:STANDARD
TZOFFSETFROM:-0300
TZOFFSETTO:-0400
TZNAME:-04
DTSTART:20240324T030000
END:STANDARD
BEGIN:DAYLIGHT
TZOFFSETFROM:-0400
TZOFFSETTO:-0300
TZNAME:-03
DTSTART:20241006T040000
END:DAYLIGHT
BEGIN:STANDARD
TZOFFSETFROM:-0300
TZOFFSETTO:-0300
TZNAME:-03
DTSTART:20241015T030000
END:STANDARD
END:VTIMEZONE
BEGIN:VEVENT
DTSTART;TZID=America/Asuncion:20240605T180000
DTEND;TZID=America/Asuncion:20240605T200000
DTSTAMP:20260423T162107
CREATED:20240523T200943Z
LAST-MODIFIED:20240530T155707Z
UID:27350-1717610400-1717617600@www.icpa-gz.org.py
SUMMARY:Herausforderungen im öffentlichen Bereich - Forum | BASE Investigaciones Sociales
DESCRIPTION:Wesentliche Spannungen des Kapitalismus im heutigen Paraguay\n\nReferent:innen\nHugo Richer | hugoricherf / Instagram\nEsperanza Martínez | esperanza_py / Instagram\n\n\nOrganisiert von BASE Investigaciones Sociales | BASE-IS\nWebseite | Facebook | Instagram | X | YouTube\n\n\n \n\n\nMittwoch\, 05. Juni 2024\n18:00 Uhr\n\n\nEintritt frei\n\n\n.\nSalón Rolando Rasmussen\n\n\nInstituto Cultural Paraguayo-Alemán – Goethe-Zentrum\n\n\nJuan de Salazar 310 c/Artigas\n\n\nRicardo Brugada\n\n\nAsunción\n\n\n \n\n\nGefördert vom ICPA-GZ
URL:https://www.icpa-gz.org.py/DE/evento/forum-base-investigaciones-sociales/
LOCATION:Salón Rolando Rasmussen des Instituto Cultural Paraguayo-Alemán – Goethe-Zentrum | ICPA-GZ\, Juan de Salazar 310 c/ Artigas Barrio Ricardo Brugada\, Asunción\, Distrito Capital\, Paraguay
CATEGORIES:Forum,gefördert vom ICPA-GZ,Präsenzveranstaltung
ATTACH;FMTTYPE=image/jpeg:https://www.icpa-gz.org.py/DE/wp-content/uploads/2024/05/BASE_05062024.jpg
ORGANIZER;CN="BASE Investigaciones Sociales | BASE-IS":MAILTO:baseis@baseis.org.py
END:VEVENT
END:VCALENDAR