BEGIN:VCALENDAR
VERSION:2.0
PRODID:-//Deutsch Paraguayisches Kulturinstitut Goethe-Zentrum - ECPv6.15.20//NONSGML v1.0//EN
CALSCALE:GREGORIAN
METHOD:PUBLISH
X-WR-CALNAME:Deutsch Paraguayisches Kulturinstitut Goethe-Zentrum
X-ORIGINAL-URL:https://www.icpa-gz.org.py/DE
X-WR-CALDESC:Eventos para Deutsch Paraguayisches Kulturinstitut Goethe-Zentrum
REFRESH-INTERVAL;VALUE=DURATION:PT1H
X-Robots-Tag:noindex
X-PUBLISHED-TTL:PT1H
BEGIN:VTIMEZONE
TZID:America/Asuncion
BEGIN:STANDARD
TZOFFSETFROM:-0300
TZOFFSETTO:-0400
TZNAME:-04
DTSTART:20230326T030000
END:STANDARD
BEGIN:DAYLIGHT
TZOFFSETFROM:-0400
TZOFFSETTO:-0300
TZNAME:-03
DTSTART:20231001T040000
END:DAYLIGHT
BEGIN:STANDARD
TZOFFSETFROM:-0300
TZOFFSETTO:-0400
TZNAME:-04
DTSTART:20240324T030000
END:STANDARD
BEGIN:DAYLIGHT
TZOFFSETFROM:-0400
TZOFFSETTO:-0300
TZNAME:-03
DTSTART:20241006T040000
END:DAYLIGHT
BEGIN:STANDARD
TZOFFSETFROM:-0300
TZOFFSETTO:-0300
TZNAME:-03
DTSTART:20241015T030000
END:STANDARD
END:VTIMEZONE
BEGIN:VEVENT
DTSTART;TZID=America/Asuncion:20240523T190000
DTEND;TZID=America/Asuncion:20240523T200000
DTSTAMP:20260423T220131
CREATED:20240521T204024Z
LAST-MODIFIED:20240521T210655Z
UID:26933-1716490800-1716494400@www.icpa-gz.org.py
SUMMARY:Vacas Ariscas | Violeta Acuña
DESCRIPTION:Performance\nEin Projekt im Rahmen des paraguayischen Kollektivs La Deíxis del Río \nUnter Mitwirkung von Violeta Acuña | @guarani_nomada / Instagram \nDonnerstag\, 23. Mai 2024 | 19:00 Uhr\nEintritt frei \narteCo. | Feria de Arte Contemporáneo\n@arteco_feriaok / Instagram\nPuerto / Av. Juan T. de Vera y Mendoza\nCiudad de Corrientes\nArgentina \nGefördert vom Instituto Cultural Paraguayo-Alemán – Goethe-Zentrum | ICPA-GZ \n.
URL:https://www.icpa-gz.org.py/DE/evento/vacas-ariscas-violeta-acuna/
LOCATION:Hafen der Ciudad de Corrientes | Argentinien\, Av. Juan T. de Vera y Mendoza\, Corrientes\, Argentina
CATEGORIES:Festival,gefördert vom ICPA-GZ,Präsenzveranstaltung,Tanz,Theater
ATTACH;FMTTYPE=image/png:https://www.icpa-gz.org.py/DE/wp-content/uploads/2024/05/VacasAriscas.png
END:VEVENT
END:VCALENDAR