BEGIN:VCALENDAR
VERSION:2.0
PRODID:-//Deutsch Paraguayisches Kulturinstitut Goethe-Zentrum - ECPv6.15.20//NONSGML v1.0//EN
CALSCALE:GREGORIAN
METHOD:PUBLISH
X-ORIGINAL-URL:https://www.icpa-gz.org.py/DE
X-WR-CALDESC:Eventos para Deutsch Paraguayisches Kulturinstitut Goethe-Zentrum
REFRESH-INTERVAL;VALUE=DURATION:PT1H
X-Robots-Tag:noindex
X-PUBLISHED-TTL:PT1H
BEGIN:VTIMEZONE
TZID:America/Asuncion
BEGIN:STANDARD
TZOFFSETFROM:-0300
TZOFFSETTO:-0400
TZNAME:-04
DTSTART:20230326T030000
END:STANDARD
BEGIN:DAYLIGHT
TZOFFSETFROM:-0400
TZOFFSETTO:-0300
TZNAME:-03
DTSTART:20231001T040000
END:DAYLIGHT
BEGIN:STANDARD
TZOFFSETFROM:-0300
TZOFFSETTO:-0400
TZNAME:-04
DTSTART:20240324T030000
END:STANDARD
BEGIN:DAYLIGHT
TZOFFSETFROM:-0400
TZOFFSETTO:-0300
TZNAME:-03
DTSTART:20241006T040000
END:DAYLIGHT
BEGIN:STANDARD
TZOFFSETFROM:-0300
TZOFFSETTO:-0300
TZNAME:-03
DTSTART:20241015T030000
END:STANDARD
END:VTIMEZONE
BEGIN:VEVENT
DTSTART;TZID=America/Asuncion:20240506T180000
DTEND;TZID=America/Asuncion:20240506T200000
DTSTAMP:20260424T125654
CREATED:20240326T205733Z
LAST-MODIFIED:20240410T200255Z
UID:22048-1715018400-1715025600@www.icpa-gz.org.py
SUMMARY:Fertigkeiten und Techniken des öffentlichen Redens - Workshop IV/IV | Ana Ivanova
DESCRIPTION:Workshop zu öffentlichem Sprechen und Theatralität\nGeleitet von Ana Ivanova | @la.ivanova / Instagram \n__ \nVier Sitzungen zu je zwei Stunden:\nI. Montag\, 15. April 2024 | 18.00 bis 20.00 Uhr\nII. Montag\, 22. April 2024 | 18.00 bis 20.00 Uhr\nIII. Montag\, 29. April 2024 | 18.00 bis 20.00 Uhr\nIV. Montag\, 06. Mai 2024 | 18.00 bis 20.00 Uhr\n__ \nBegrenztes Kontingent\nTeilnahmegebühr | 300.000 Gs.\nZur vorherigen Anmeldung \nSalón Rolando Rasmussen\nParaguayisch-Deutsches Kulturinstitut – Goethe-Zentrum\nJuan de Salazar 310 c/ Av. Artigas\nRicardo Brugada\nAsunción
URL:https://www.icpa-gz.org.py/DE/evento/fertigkeiten-und-techniken-des-offentlichen-redens-workshop-iv-iv-ana-ivanova/
LOCATION:Salón Rolando Rasmussen des Instituto Cultural Paraguayo-Alemán – Goethe-Zentrum | ICPA-GZ\, Juan de Salazar 310 c/ Artigas Barrio Ricardo Brugada\, Asunción\, Distrito Capital\, Paraguay
CATEGORIES:Fortbildung,gefördert vom ICPA-GZ,Präsenzveranstaltung,Workshop
ATTACH;FMTTYPE=image/png:https://www.icpa-gz.org.py/DE/wp-content/uploads/2024/04/ICPA_Ana_TallerOratoria_2.png
END:VEVENT
END:VCALENDAR