BEGIN:VCALENDAR
VERSION:2.0
PRODID:-//Deutsch Paraguayisches Kulturinstitut Goethe-Zentrum - ECPv6.15.20//NONSGML v1.0//EN
CALSCALE:GREGORIAN
METHOD:PUBLISH
X-WR-CALNAME:Deutsch Paraguayisches Kulturinstitut Goethe-Zentrum
X-ORIGINAL-URL:https://www.icpa-gz.org.py/DE
X-WR-CALDESC:Eventos para Deutsch Paraguayisches Kulturinstitut Goethe-Zentrum
REFRESH-INTERVAL;VALUE=DURATION:PT1H
X-Robots-Tag:noindex
X-PUBLISHED-TTL:PT1H
BEGIN:VTIMEZONE
TZID:America/Asuncion
BEGIN:STANDARD
TZOFFSETFROM:-0300
TZOFFSETTO:-0400
TZNAME:-04
DTSTART:20230326T030000
END:STANDARD
BEGIN:DAYLIGHT
TZOFFSETFROM:-0400
TZOFFSETTO:-0300
TZNAME:-03
DTSTART:20231001T040000
END:DAYLIGHT
BEGIN:STANDARD
TZOFFSETFROM:-0300
TZOFFSETTO:-0400
TZNAME:-04
DTSTART:20240324T030000
END:STANDARD
BEGIN:DAYLIGHT
TZOFFSETFROM:-0400
TZOFFSETTO:-0300
TZNAME:-03
DTSTART:20241006T040000
END:DAYLIGHT
BEGIN:STANDARD
TZOFFSETFROM:-0300
TZOFFSETTO:-0300
TZNAME:-03
DTSTART:20241015T030000
END:STANDARD
END:VTIMEZONE
BEGIN:VEVENT
DTSTART;VALUE=DATE:20240304
DTEND;VALUE=DATE:20240321
DTSTAMP:20260424T145003
CREATED:20240315T214542Z
LAST-MODIFIED:20240315T214735Z
UID:21568-1709510400-1710979199@www.icpa-gz.org.py
SUMMARY:Wie wollen wir zusammen leben? | Ausschreibung für Videokünstler:innen
DESCRIPTION:MENTORINGPROGRAMM FÜR VIDEOKUNST \nDas vom Goethe-Institut Buenos Aires und der Alliance Française in Buenos Aires in Zusammenarbeit mit der Stiftung Medifé und der Förderung durch den Deutsch-Französischen Kulturfonds ins Leben gerufene Mentoringprogramm Wie wollen wir zusammen leben? soll den Dialog und die Reflexion zwischen Videokünstler:innen fördern. \nDie offene Ausschreibung läuft über das Netzwerk der 54 Alliances Françaises in Argentinien und der 13 deutsch-argentinischen Kulturgesellschaften\, sowie des Goethe-Zentrums und der Alliance Française in Paraguay. Das Projekt sieht ein intensives Mentoringprogramm vor\, das sich an junge Künstler:innen in Argentinien und Paraguay richtet. Ziel ist es\, ihnen die Möglichkeit zu geben\, unveröffentlichte Videoarbeiten zu entwickeln und gleichzeitig mit Gleichaltrigen ihre spezifischen Perspektiven auf die künstlerische Arbeit sowie auf die Welt und die Situation\, in der sie leben\, auszutauschen. \nBei der Auswahl werden Bewerber:innen bevorzugt\, die sich durch ihre kreative Vision und ihre Interkation mit ihren lokalen Gemeinschaften auszeichnen. Vorrangig berücksichtigt werden auch Frauen und Menschen unterschiedlicher Herkunft aus beiden Ländern. Die Mentoringmodule werden von professionellen Künstler:innen mit langjähriger Erfahrung und internationalem Ansehen im Bereich der Videokunst geleitet und werden jungen Künstler:innen audiovisuelle Werkzeuge an die Hand geben\, mit denen sie die relevanten Themen der Zeit angehen können. Als Kulturvermittelnde ist es unser Ziel\, nachhaltige Verbindungen zwischen den vielversprechendsten Videokünstler:innen aus Argentinien und Paraguay zu fördern\, indem wir ihnen eine Ausbildung und ein Netzwerk von Kontakten anbieten und ihre Arbeit bekannt machen. Das Projekt ist in die Ziele für nachhaltige Entwicklung (SDGs) im Kultursektor eingebettet und berücksichtigt Praktiken\, die die Auswirkungen auf die Umwelt minimieren und darauf abzielen\, so wenig Abfall wie möglich zu erzeugen. \nDie Jury\, bestehend aus Graciela Taquini\, Fernando Moure und den drei Mentor:innen Enrique Ramírez\, Ariel Nahón und Regina de Miguel\, wird 21 Künstler:innen für die Teilnahme an dem Programm auswählen. \n+ Information: Internetseite des Projektes | Wie wollen wir zusammen leben? \n 
URL:https://www.icpa-gz.org.py/DE/evento/wie-wollen-wir-zusammen-leben-ausschreibung-fur-videokunstlerinnen/
CATEGORIES:Ausschreibung,gefördert vom ICPA-GZ,Videokunst,Workshop
ATTACH;FMTTYPE=image/jpeg:https://www.icpa-gz.org.py/DE/wp-content/uploads/2024/03/como-queremos-vivir-juntxs-_-feed.jpg
ORGANIZER;CN="Goethe Institut Buenos Aires":MAILTO:info-buenosaires@goethe.de
END:VEVENT
BEGIN:VEVENT
DTSTART;TZID=America/Asuncion:20240308T183000
DTEND;TZID=America/Asuncion:20240308T193000
DTSTAMP:20260424T145003
CREATED:20240229T160100Z
LAST-MODIFIED:20240229T161024Z
UID:19711-1709922600-1709926200@www.icpa-gz.org.py
SUMMARY:Workshop\, VORTRAG und Kino-Debatte - Caacupé | gefördert vom ICPA-GZ
DESCRIPTION:WORKSHOP\nGeleitet von der Schauspielerin Ana Ivanova | la.ivanova / Instagram\nEs werden Teilnahmezertifikate ausgestellt \nDonnerstag 07\n17:00 bis 20:00 Uhr \nVORTRAG\nDas Modell des audiovisuellen Schaffens in Coronel Oviedo \nVortrag von Rodney Zorrilla | rodneyzorrillaortiz / Instagram\nKulturmanager\, Schriftsteller\, Musikkomponist\nDrehbuchautor\, Regisseur und audiovisueller Produzent \nFreitag 08\n18:30 bis 19:30 Uhr \nKINO-DEBATTE\nEröffnung der Deutschen Tour\nEröffnungsfilm: UDINE von Christian Petzold\nGenieße einen Abend mit Kino & kostenlosem Popcorn! \nNancy García Vargas | nangarciavargas / Instagram\nWalter Fernando Diaz Ayala | fernandito_yaguaron_gua / Instagram\nRodney Zorrilla | rodneyzorrillaortiz / Instagram \nFreitag 08\n20:00 Uhr \n___ \nFreier Eintritt \nEspacio K – ARASÁ\nDr. Venancio Pino 1410\nVor dem Sitz der Departamentsregierung von Cordillera\nCaacupé \nWeitere Informationen | WhatsApp-Gruppe des Events \n 
URL:https://www.icpa-gz.org.py/DE/evento/workshop-vortrag-und-kino-debatte-caacupe-gefordert-vom-icpa-gz/
LOCATION:Espacio K – Arasá\, Dr. Venancio Pino 1410\, Caacupé\, Cordillera\, Paraguay
CATEGORIES:gefördert vom ICPA-GZ,Präsenzveranstaltung,Vortrag
ATTACH;FMTTYPE=image/jpeg:https://www.icpa-gz.org.py/DE/wp-content/uploads/2024/02/WhatsApp-Image-2024-02-28-at-16.00.12.jpeg
END:VEVENT
BEGIN:VEVENT
DTSTART;TZID=America/Asuncion:20240308T200000
DTEND;TZID=America/Asuncion:20240308T220000
DTSTAMP:20260424T145003
CREATED:20240229T160938Z
LAST-MODIFIED:20240229T161010Z
UID:19718-1709928000-1709935200@www.icpa-gz.org.py
SUMMARY:Workshop\, Vortrag und KINO-DEBATTE - Caacupé | gefördert vom ICPA-GZ
DESCRIPTION:WORKSHOP\nGeleitet von der Schauspielerin Ana Ivanova | la.ivanova / Instagram\nEs werden Teilnahmezertifikate ausgestellt \nDonnerstag 07\n17:00 bis 20:00 Uhr \nVORTRAG\nDas Modell des audiovisuellen Schaffens in Coronel Oviedo \nVortrag von Rodney Zorrilla | rodneyzorrillaortiz / Instagram\nKulturmanager\, Schriftsteller\, Musikkomponist\nDrehbuchautor\, Regisseur und audiovisueller Produzent \nFreitag 08\n18:30 bis 19:30 Uhr \nKINO-DEBATTE\nEröffnung der Deutschen Tour\nEröffnungsfilm: UDINE von Christian Petzold\nGenieße einen Abend mit Kino & kostenlosem Popcorn! \nNancy García Vargas | nangarciavargas / Instagram\nWalter Fernando Diaz Ayala | fernandito_yaguaron_gua / Instagram\nRodney Zorrilla | rodneyzorrillaortiz / Instagram \nFreitag 08\n20:00 Uhr \n___ \nFreier Eintritt \nEspacio K – ARASÁ\nDr. Venancio Pino 1410\nVor dem Sitz der Departamentsregierung von Cordillera\nCaacupé \nWeitere Informationen | WhatsApp-Gruppe des Events \n 
URL:https://www.icpa-gz.org.py/DE/evento/workshop-vortrag-und-kino-debatte-caacupe-gefordert-vom-icpa-gz-2/
LOCATION:Espacio K – Arasá\, Dr. Venancio Pino 1410\, Caacupé\, Cordillera\, Paraguay
CATEGORIES:Filmtheater,gefördert vom ICPA-GZ,Präsenzveranstaltung
ATTACH;FMTTYPE=image/jpeg:https://www.icpa-gz.org.py/DE/wp-content/uploads/2024/02/WhatsApp-Image-2024-02-28-at-16.00.12.jpeg
END:VEVENT
END:VCALENDAR