BEGIN:VCALENDAR
VERSION:2.0
PRODID:-//Deutsch Paraguayisches Kulturinstitut Goethe-Zentrum - ECPv6.15.20//NONSGML v1.0//EN
CALSCALE:GREGORIAN
METHOD:PUBLISH
X-ORIGINAL-URL:https://www.icpa-gz.org.py/DE
X-WR-CALDESC:Eventos para Deutsch Paraguayisches Kulturinstitut Goethe-Zentrum
REFRESH-INTERVAL;VALUE=DURATION:PT1H
X-Robots-Tag:noindex
X-PUBLISHED-TTL:PT1H
BEGIN:VTIMEZONE
TZID:America/Asuncion
BEGIN:STANDARD
TZOFFSETFROM:-0300
TZOFFSETTO:-0400
TZNAME:-04
DTSTART:20230326T030000
END:STANDARD
BEGIN:DAYLIGHT
TZOFFSETFROM:-0400
TZOFFSETTO:-0300
TZNAME:-03
DTSTART:20231001T040000
END:DAYLIGHT
BEGIN:STANDARD
TZOFFSETFROM:-0300
TZOFFSETTO:-0400
TZNAME:-04
DTSTART:20240324T030000
END:STANDARD
BEGIN:DAYLIGHT
TZOFFSETFROM:-0400
TZOFFSETTO:-0300
TZNAME:-03
DTSTART:20241006T040000
END:DAYLIGHT
BEGIN:STANDARD
TZOFFSETFROM:-0300
TZOFFSETTO:-0300
TZNAME:-03
DTSTART:20241015T030000
END:STANDARD
END:VTIMEZONE
BEGIN:VEVENT
DTSTART;TZID=America/Asuncion:20240302T090000
DTEND;TZID=America/Asuncion:20240302T130000
DTSTAMP:20260424T013548
CREATED:20240202T165131Z
LAST-MODIFIED:20240213T190121Z
UID:18786-1709370000-1709384400@www.icpa-gz.org.py
SUMMARY:Wie gestaltet man die Regie? - Workshop III/IV | Cine Hecho A Mano
DESCRIPTION:mit Ángel Molina | @idroveallnight_ / Instagram und Miguel Agüero | @arraigo.ea / Instagram \nSamstag 02. März 2024\n09:00 bis 13:00 Uhr \nKostenlose Veranstaltung nach vorheriger Einschreibung / ausgebucht \nInstituto Cultural Paraguayo-Alemán – Goethe-Zentrum\nJuan de Salazar 310 c/Artigas\nRicardo Brugada\nAsunción \nZyklus von audiovisuellen Fortbildungsworkshops und Vorträgen\nSamstag\, 17. / 24. Februar und 02. / 09. März 2024 \nOrganisiert von AmamosCine | @amamoscinepy / Instagram\nGefördert vom ICPA-GZ y und dem Instituto Nacional del Audiovisual Paraguayo
URL:https://www.icpa-gz.org.py/DE/evento/wie-gestaltet-man-die-regie-workshop-iii-iv-cine-hecho-a-mano/
LOCATION:Instituto Cultural Paraguayo-Alemán – Goethe-Zentrum | ICPA-GZ\, Juan de Salazar 310 c/ Artigas_\, Asuncion\, 3500\, Paraguay
CATEGORIES:Filmtheater,Fortbildung,gefördert vom ICPA-GZ,Präsenzveranstaltung,Workshop
ATTACH;FMTTYPE=image/jpeg:https://www.icpa-gz.org.py/DE/wp-content/uploads/2024/02/Hecho_Cine_general.jpg
ORGANIZER;CN="AmamosCine":MAILTO:productoraamamoscine@gmail.com
END:VEVENT
END:VCALENDAR