BEGIN:VCALENDAR
VERSION:2.0
PRODID:-//Deutsch Paraguayisches Kulturinstitut Goethe-Zentrum - ECPv6.15.20//NONSGML v1.0//EN
CALSCALE:GREGORIAN
METHOD:PUBLISH
X-ORIGINAL-URL:https://www.icpa-gz.org.py/DE
X-WR-CALDESC:Eventos para Deutsch Paraguayisches Kulturinstitut Goethe-Zentrum
REFRESH-INTERVAL;VALUE=DURATION:PT1H
X-Robots-Tag:noindex
X-PUBLISHED-TTL:PT1H
BEGIN:VTIMEZONE
TZID:America/Asuncion
BEGIN:STANDARD
TZOFFSETFROM:-0300
TZOFFSETTO:-0400
TZNAME:-04
DTSTART:20230326T030000
END:STANDARD
BEGIN:DAYLIGHT
TZOFFSETFROM:-0400
TZOFFSETTO:-0300
TZNAME:-03
DTSTART:20231001T040000
END:DAYLIGHT
BEGIN:STANDARD
TZOFFSETFROM:-0300
TZOFFSETTO:-0400
TZNAME:-04
DTSTART:20240324T030000
END:STANDARD
BEGIN:DAYLIGHT
TZOFFSETFROM:-0400
TZOFFSETTO:-0300
TZNAME:-03
DTSTART:20241006T040000
END:DAYLIGHT
BEGIN:STANDARD
TZOFFSETFROM:-0300
TZOFFSETTO:-0300
TZNAME:-03
DTSTART:20241015T030000
END:STANDARD
END:VTIMEZONE
BEGIN:VEVENT
DTSTART;VALUE=DATE:20240312
DTEND;VALUE=DATE:20240416
DTSTAMP:20260423T234717
CREATED:20240313T140126Z
LAST-MODIFIED:20240313T141036Z
UID:21041-1710201600-1713225599@www.icpa-gz.org.py
SUMMARY:Portunholas: Ausstellung – Laboratorium für Künstler:innen an den Grenzen Südamerikas
DESCRIPTION:Das Problem der Unterrepräsentation von Künstlerinnen ist eine der hartnäckigsten Formen von Gewalt im zeitgenössischen Kunstsystem\, und wenn man es aus der Perspektive des Globalen Südens betrachtet\, kündigt es Verdichtungen an\, die über Geschlechterkonflikte hinausgehen und Strukturen rassistischer und sozioökonomischer Gewalt umfassen. Wir können uns fragen\, inwieweit die offensichtliche patriarchalische Vorherrschaft in der Kunstgeschichte auch ein soziales Spiegelbild der Art und Weise ist\, wie Frauen betrachtet und behandelt werden\, insbesondere in Lateinamerika\, vor allem seit dem Vormarsch des Kapitalismus und der kolonialen Sklaverei. \nDie Macht der Frauen in der Verwaltung des politischen Lebens sowie die Möglichkeiten und der Respekt vor ihren eigenen Körpern\, Territorien und ihrer Subjektivität haben durch das moderne Projekt der Kontrolle und Disziplinierung tiefgreifende Repressalien erlitten. Dennoch haben intersektionale politische Frauenorganisationen jahrhundertelang gegen die Machtziele des Patriarchats gekämpft und sich der Todeskapazität und Barbarei der kapitalistischen Maschinerie der Unterwerfung und sozialen Knechtschaft widersetzt. \nDie im 18. Jahrhundert verbreitete Vorstellung von der einerseits unbezahlten und andererseits zwangsverpflichteten\, von Hausarbeit\, Mutterschaft und totaler Unbotmäßigkeit geleiteten Frauenarbeit hielt sich bis ins 19. Jahrhundert\, als die Kunstgeschichte als Wissenschaft anerkannt wurde. Bei der Erstellung der wichtigsten Kanons wurden mehrere weibliche Erzählungen nicht berücksichtigt\, die ausgeschlossen und unsichtbar gemacht wurden. Können wir angesichts dieser Tatsache davon ausgehen\, dass die weiblichen Künste eine zeitgenössische Sicht auf die Welt aus einem erkenntnistheoretischen Blickwinkel heraus bieten können\, der mit der Monokultur der Kunstgeschichte bricht? \nDas Projekt Portunholas zielt darauf ab\, Fragen zu Feminismus und Repräsentation aus einer Süd-Süd-Perspektive zu erörtern\, indem es eine Begegnung zwischen Künstlerinnen aus zwei verschiedenen Ländern vorschlägt\, die trotz gemeinsamer Grenzen\, gemeinsamer Geschichte und gemeinsamer angestammter Territorien wie das Volk der Guaraní nur selten miteinander in Kontakt treten und ihre Lebens- und Schaffenserfahrungen austauschen. In diesem Sinne wird Portunholas den multikulturellen Austausch fördern\, um gemeinsam Räume zu schaffen\, in denen Frauen für sich selbst sprechen können\, und um angesichts der Erfindung des Individuums und seiner Isolation zeitgemäße Strategien für die Reifung von Brücken der Ko-Kreation zu entwickeln. Die Labortreffen werden auch die Möglichkeiten untersuchen\, wie man den Fallen des Binarismus entkommen kann\, wo eine “weibliche” Identität auf der Grundlage eines falschen egalitären Projekts am Rande des Neoliberalismus und der Aufrechterhaltung der hegemonialen Kräfte gefördert wird. \nDas Projekt Portunholas | @portunholas / Instagram ist im Rahmen des Programms El Siglo de las Mujeres des Instituto Goethe de La Paz entstanden und wächst dank der Unterstützung des Deutsch-Paraguayischen Kulturinstituts – Goethe-Zentrum | ICPA-GZ weiter. \n  \nEröffnung der Ausstellung im Rahmen des ICPA TREFF | März 2024\nDienstag\, 12. März 2024\n19:30 Uhr \nDie Ausstellung ist während der Öffnungszeiten des Instituts geöffnet\nMontag bis Freitag | 08:00 bis 19:00 Uhr\nSamstag | 08:00 bis 12:00 Uhr \nContainer des ICPA-GZ\nJuan de Salazar y Espinoza 310 c/ Artigas\nRicardo Brugada\nAsunción \n  \nZur Internetseite des Projektes Das Jahrhundert der Frauen
URL:https://www.icpa-gz.org.py/DE/evento/portunholas-ausstellung-laboratorium-fur-kunstlerinnen-an-den-grenzen-sudamerikas/
LOCATION:Container des ICPA-GZ\, Juan de Salazar 310 c/ Artigas Barrio Ricardo Brugada\, Asunción\, Paraguay
CATEGORIES:Ausstellung,gefördert vom ICPA-GZ,Kunst,Präsenzveranstaltung
ATTACH;FMTTYPE=image/png:https://www.icpa-gz.org.py/DE/wp-content/uploads/2024/03/12032024_2.png
END:VEVENT
BEGIN:VEVENT
DTSTART;TZID=America/Asuncion:20240409T193000
DTEND;TZID=America/Asuncion:20240409T203000
DTSTAMP:20260423T234717
CREATED:20240326T180520Z
LAST-MODIFIED:20240404T215050Z
UID:21975-1712691000-1712694600@www.icpa-gz.org.py
SUMMARY:Freiheit - mehr als nur ein Wort | Vortrag @ ICPA TREFF
DESCRIPTION:Vortrag von Holger Timmreck | Zeitzeuge der kommunistischen Epoche Ostdeutschlands \nDienstag 09 | 19:30 Uhr\nKostenloser Vortrag \nSalón Rolando Rasmussen\nInstituto Cultural Paraguayo-Alemán – Goethe-Zentrum | ICPA-GZ\nJuan de Salazar 310 c/ Av. Artigas\nRicardo Brugada\nAsunción \nVeranstaltung im Rahmen des ICPA TREFF – Gastronomie\, Kunst\, Musik & das gute Leben! | April 2024 \n 
URL:https://www.icpa-gz.org.py/DE/evento/freiheit-mehr-als-nur-ein-wort-vortrag/
LOCATION:Salón Rolando Rasmussen des Instituto Cultural Paraguayo-Alemán – Goethe-Zentrum | ICPA-GZ\, Juan de Salazar 310 c/ Artigas Barrio Ricardo Brugada\, Asunción\, Distrito Capital\, Paraguay
CATEGORIES:gefördert vom ICPA-GZ,ICPA TREFF,Präsenzveranstaltung,Vortrag
ATTACH;FMTTYPE=image/jpeg:https://www.icpa-gz.org.py/DE/wp-content/uploads/2024/03/captura-spanisch.jpeg
END:VEVENT
BEGIN:VEVENT
DTSTART;TZID=America/Asuncion:20240412T170000
DTEND;TZID=America/Asuncion:20240412T190000
DTSTAMP:20260423T234717
CREATED:20240402T203438Z
LAST-MODIFIED:20240402T214528Z
UID:22546-1712941200-1712948400@www.icpa-gz.org.py
SUMMARY:Kreation von touristischen Erlebnissen aus Erinnerung und Territorium - Tag I | gefördert vom ICPA-GZ
DESCRIPTION:Präsenzworkshop zum Thema “Kreation von touristischen Erlebnissen aus Erinnerung und Territotium” mit dem Museologen und Kulturmanager Walter Fernando Díaz Ayala | @fernandito_yaguaron_gua / Instagram und dem Kulturmanager und SNC-Berater César Coronel | @cesaar_coronel / Instagram. \nFreitag 12 | 17:00 bis 19:00 Uhr\nSamstag 13 | 16:00 bis 20:00 Uhr \nFreier Eintritt \nEspacio Cultural Clemente Róga\nJuan Angel Benitez 609\nCoronel Oviedo \n+ Informationen\nBalbino | +595 975 405 464 \nEs werden Teilnahmebescheinigungen ausgestellt.\nIm Rahmen der Workshopreihe: Fallando\, Aprendo von Ana Ivanova | @la.ivanova / Instagram \nGefördert vom ICPA-GZ \n.
URL:https://www.icpa-gz.org.py/DE/evento/kreation-von-touristischen-erlebnissen-aus-erinnerung-und-territorium-gefordert-vom-icpa-gz/
LOCATION:Espacio Cultural Clemente Rogá\, Juan Angel Benitez 609\, Coronel Oviedo\, Caaguazú\, Paraguay
CATEGORIES:gefördert vom ICPA-GZ,Präsenzveranstaltung,Workshop
ATTACH;FMTTYPE=image/png:https://www.icpa-gz.org.py/DE/wp-content/uploads/2024/04/ICPA_TallerAna-1.png
END:VEVENT
BEGIN:VEVENT
DTSTART;TZID=America/Asuncion:20240412T200000
DTEND;TZID=America/Asuncion:20240412T203000
DTSTAMP:20260423T234717
CREATED:20240402T215028Z
LAST-MODIFIED:20240402T215041Z
UID:22656-1712952000-1712953800@www.icpa-gz.org.py
SUMMARY:Bücherspende für die Straßenbibliothek vor dem Clemente Rogá | gefördert vom ICPA-GZ
DESCRIPTION:Freitag 12 | 20:00 Uhr\nFreier Eintritt \nEspacio Cultural Clemente Róga\nJuan Angel Benitez 609\nCoronel Oviedo \n+ Informationen\nBalbino | +595 975 405 464 \nIm Rahmen der Workshopreihe: Fallando\, Aprendo von Ana Ivanova | @la.ivanova / Instagram\nGefördert vom ICPA-GZ
URL:https://www.icpa-gz.org.py/DE/evento/bucherspende-fur-die-strasenbibliothek-vor-dem-clemente-roga-gefordert-vom-icpa-gz/
LOCATION:Espacio Cultural Clemente Rogá\, Juan Angel Benitez 609\, Coronel Oviedo\, Caaguazú\, Paraguay
CATEGORIES:Bibliothek,gefördert vom ICPA-GZ,Präsenzveranstaltung
ATTACH;FMTTYPE=image/png:https://www.icpa-gz.org.py/DE/wp-content/uploads/2024/04/ICPA_TallerAna-3.png
END:VEVENT
BEGIN:VEVENT
DTSTART;TZID=America/Asuncion:20240412T200000
DTEND;TZID=America/Asuncion:20240412T220000
DTSTAMP:20260423T234717
CREATED:20240402T213729Z
LAST-MODIFIED:20240402T214547Z
UID:22621-1712952000-1712959200@www.icpa-gz.org.py
SUMMARY:Barbara von Christian Petzold - Filmvorführung  | gefördert vom ICPA-GZ
DESCRIPTION:Zweiter Termin des deutschen Filmgesprächskreises: mit der Vorführung der Filme Barbara des deutschen Regisseurs Christian Petzold und des Kinderfilms Quatsch und die Nasenbärbande des deutschen Regisseurs Veit Helmer. \nDie Podiumsdiskussion setzt sich zusammen aus\nMariel Andersen – Diplompsychologin\, Spezialistin für soziale Kunst und Kulturmanagerin\nWalter Fernando Díaz Ayala – Museologe und Kulturmanager | @fernandito_yaguaron_gua / Instagram\nRodney Zorilla – Kulturmanager\, Schriftsteller\, Musikkomponist\, Drehbuchautor\, Regisseur und Produzent audiovisueller Medien | @rodneyzorrillaortiz / Instagram\nCésar Coronel – Berater des SNC und Kulturmanager | @cesaar_coronel / Instagram \nFreitag 12 | 20:00 Uhr\nFreier Eintritt \nEspacio Cultural Clemente Róga\nJuan Angel Benitez 609\nCoronel Oviedo \n+ Informationen\nBalbino | +595 975 405 464 \nIm Rahmen der Workshopreihe: Fallando\, Aprendo von Ana Ivanova | @la.ivanova / Instagram\nGefördert vom ICPA-GZ
URL:https://www.icpa-gz.org.py/DE/evento/barbara-von-christian-petzold-filmvorfuhrung-gefordert-vom-icpa-gz/
LOCATION:Espacio Cultural Clemente Rogá\, Juan Angel Benitez 609\, Coronel Oviedo\, Caaguazú\, Paraguay
CATEGORIES:Filmtheater,gefördert vom ICPA-GZ,Präsenzveranstaltung
ATTACH;FMTTYPE=image/png:https://www.icpa-gz.org.py/DE/wp-content/uploads/2024/04/ICPA_TallerAna-2.png
END:VEVENT
BEGIN:VEVENT
DTSTART;TZID=America/Asuncion:20240413T160000
DTEND;TZID=America/Asuncion:20240413T200000
DTSTAMP:20260423T234717
CREATED:20240402T210551Z
LAST-MODIFIED:20240402T210551Z
UID:22586-1713024000-1713038400@www.icpa-gz.org.py
SUMMARY:Kreation von touristischen Erlebnissen aus Erinnerung und Territorium - Tag II | gefördert vom ICPA-GZ
DESCRIPTION:Präsenzworkshop zum Thema “Kreation von touristischen Erlebnissen aus Erinnerung und Territotium” mit dem Museologen und Kulturmanager Walter Fernando Díaz Ayala | @fernandito_yaguaron_gua / Instagram und dem Kulturmanager und SNC-Berater César Coronel | @cesaar_coronel / Instagram. \nFreitag 12 | 17:00 bis 19:00 Uhr\nSamstag 13 | 16:00 bis 20:00 Uhr \nFreier Eintritt \nEspacio Cultural Clemente Róga\nJuan Angel Benitez 609\nCoronel Oviedo \n+ Informationen\nBalbino | +595 975 405 464 \nEs werden Teilnahmebescheinigungen ausgestellt.\nIm Rahmen der Workshopreihe: Fallando\, Aprendo von Ana Ivanova | @la.ivanova / Instagram \n.
URL:https://www.icpa-gz.org.py/DE/evento/kreation-von-touristischen-erlebnissen-aus-erinnerung-und-territorium-tag-ii-gefordert-vom-icpa-gz/
LOCATION:Espacio Cultural Clemente Rogá\, Juan Angel Benitez 609\, Coronel Oviedo\, Caaguazú\, Paraguay
CATEGORIES:gefördert vom ICPA-GZ,Präsenzveranstaltung,Workshop
ATTACH;FMTTYPE=image/png:https://www.icpa-gz.org.py/DE/wp-content/uploads/2024/04/ICPA_TallerAna-1.png
END:VEVENT
BEGIN:VEVENT
DTSTART;TZID=America/Asuncion:20240415T180000
DTEND;TZID=America/Asuncion:20240415T200000
DTSTAMP:20260423T234717
CREATED:20240322T203406Z
LAST-MODIFIED:20240410T200209Z
UID:21827-1713204000-1713211200@www.icpa-gz.org.py
SUMMARY:Fertigkeiten und Techniken des öffentlichen Redens - Workshop I/IV | Ana Ivanova
DESCRIPTION:Workshop zu öffentlichem Sprechen und Theatralität\nGeleitet von Ana Ivanova | @la.ivanova / Instagram \n__ \nVier Sitzungen zu je zwei Stunden:\nI. Montag\, 15. April 2024 | 18.00 bis 20.00 Uhr\nII. Montag\, 22. April 2024 | 18.00 bis 20.00 Uhr\nIII. Montag\, 29. April 2024 | 18.00 bis 20.00 Uhr\nIV. Montag\, 06. Mai 2024 | 18.00 bis 20.00 Uhr\n__ \nBegrenztes Kontingent\nTeilnahmegebühr | 300.000 Gs.\nZur vorherigen Anmeldung \nSalón Rolando Rasmussen\nParaguayisch-Deutsches Kulturinstitut – Goethe-Zentrum\nJuan de Salazar 310 c/ Av. Artigas\nRicardo Brugada\nAsunción
URL:https://www.icpa-gz.org.py/DE/evento/fertigkeiten-und-techniken-des-offentlichen-redens-workshop-i-v-ana-ivanova/
LOCATION:Salón Rolando Rasmussen des Instituto Cultural Paraguayo-Alemán – Goethe-Zentrum | ICPA-GZ\, Juan de Salazar 310 c/ Artigas Barrio Ricardo Brugada\, Asunción\, Distrito Capital\, Paraguay
CATEGORIES:Fortbildung,gefördert vom ICPA-GZ,Präsenzveranstaltung,Workshop
ATTACH;FMTTYPE=image/png:https://www.icpa-gz.org.py/DE/wp-content/uploads/2024/04/ICPA_Ana_TallerOratoria_2.png
END:VEVENT
BEGIN:VEVENT
DTSTART;TZID=America/Asuncion:20240422T180000
DTEND;TZID=America/Asuncion:20240422T200000
DTSTAMP:20260423T234717
CREATED:20240326T210106Z
LAST-MODIFIED:20240410T200220Z
UID:22034-1713808800-1713816000@www.icpa-gz.org.py
SUMMARY:Fertigkeiten und Techniken des öffentlichen Redens - Workshop II/IV | Ana Ivanova
DESCRIPTION:Workshop zu öffentlichem Sprechen und Theatralität\nGeleitet von Ana Ivanova | @la.ivanova / Instagram \n__ \nVier Sitzungen zu je zwei Stunden:\nI. Montag\, 15. April 2024 | 18.00 bis 20.00 Uhr\nII. Montag\, 22. April 2024 | 18.00 bis 20.00 Uhr\nIII. Montag\, 29. April 2024 | 18.00 bis 20.00 Uhr\nIV. Montag\, 06. Mai 2024 | 18.00 bis 20.00 Uhr\n__ \nBegrenztes Kontingent\nTeilnahmegebühr | 300.000 Gs.\nZur vorherigen Anmeldung \nSalón Rolando Rasmussen\nParaguayisch-Deutsches Kulturinstitut – Goethe-Zentrum\nJuan de Salazar 310 c/ Av. Artigas\nRicardo Brugada\nAsunción
URL:https://www.icpa-gz.org.py/DE/evento/fertigkeiten-und-techniken-des-offentlichen-redens-workshop-ii-iv-ana-ivanova/
LOCATION:Salón Rolando Rasmussen des Instituto Cultural Paraguayo-Alemán – Goethe-Zentrum | ICPA-GZ\, Juan de Salazar 310 c/ Artigas Barrio Ricardo Brugada\, Asunción\, Distrito Capital\, Paraguay
CATEGORIES:Fortbildung,gefördert vom ICPA-GZ,Präsenzveranstaltung,Workshop
ATTACH;FMTTYPE=image/png:https://www.icpa-gz.org.py/DE/wp-content/uploads/2024/04/ICPA_Ana_TallerOratoria_2.png
END:VEVENT
BEGIN:VEVENT
DTSTART;TZID=America/Asuncion:20240429T180000
DTEND;TZID=America/Asuncion:20240429T200000
DTSTAMP:20260423T234717
CREATED:20240326T210101Z
LAST-MODIFIED:20240410T200233Z
UID:22041-1714413600-1714420800@www.icpa-gz.org.py
SUMMARY:Fertigkeiten und Techniken des öffentlichen Redens - Workshop III/IV | Ana Ivanova
DESCRIPTION:Workshop zu öffentlichem Sprechen und Theatralität\nGeleitet von Ana Ivanova | @la.ivanova / Instagram \n__ \nVier Sitzungen zu je zwei Stunden:\nI. Montag\, 15. April 2024 | 18.00 bis 20.00 Uhr\nII. Montag\, 22. April 2024 | 18.00 bis 20.00 Uhr\nIII. Montag\, 29. April 2024 | 18.00 bis 20.00 Uhr\nIV. Montag\, 06. Mai 2024 | 18.00 bis 20.00 Uhr\n__ \nBegrenztes Kontingent\nTeilnahmegebühr | 300.000 Gs.\nZur vorherigen Anmeldung \nSalón Rolando Rasmussen\nParaguayisch-Deutsches Kulturinstitut – Goethe-Zentrum\nJuan de Salazar 310 c/ Av. Artigas\nRicardo Brugada\nAsunción
URL:https://www.icpa-gz.org.py/DE/evento/fertigkeiten-und-techniken-des-offentlichen-redens-workshop-iii-iv-ana-ivanova/
LOCATION:Salón Rolando Rasmussen des Instituto Cultural Paraguayo-Alemán – Goethe-Zentrum | ICPA-GZ\, Juan de Salazar 310 c/ Artigas Barrio Ricardo Brugada\, Asunción\, Distrito Capital\, Paraguay
CATEGORIES:Fortbildung,gefördert vom ICPA-GZ,Präsenzveranstaltung,Workshop
ATTACH;FMTTYPE=image/png:https://www.icpa-gz.org.py/DE/wp-content/uploads/2024/04/ICPA_Ana_TallerOratoria_2.png
END:VEVENT
END:VCALENDAR